BEGIN:VCALENDAR
VERSION:2.0
PRODID:-//wp-events-plugin.com//7.2.3.1//EN
TZID:Europe/Berlin
X-WR-TIMEZONE:Europe/Berlin
BEGIN:VEVENT
UID:74675@flohmarkt-termine.org
DTSTART;TZID=Europe/Berlin:20250920T100000
DTEND;TZID=Europe/Berlin:20250920T160000
DTSTAMP:20260904T070228Z
URL:https://www.flohmarkt-termine.org/events/%e2%9c%a8%f0%9f%9b%8d%ef%b8%8
 f-traditioneller-herbst-winter-basar-%f0%9f%9b%8d%ef%b8%8f%e2%9c%a8-3/
SUMMARY:✨🛍️ Traditioneller Herbst-/Winter-Basar 🛍️✨
DESCRIPTION:✨🛍️ Traditioneller Herbst-/Winter-Basar 🛍️✨\n📅
  Samstag\, 20.09.2026🕒 10–16 Uhr📍 Wichern-Gemeinde\, David-Mansfel
 d-Weg 9\, Braunschweig\n👗👕 Kleidung für Groß &amp\; Klein👟🥿 
 Schuhe aller Art🧸🚲 Spielzeug &amp\; Fahrzeuge📚💿 Bücher\, Musi
 k &amp\; Schallplatten🍽️🏺 Porzellan\, Deko &amp\; Haushaltsartikel
 💍👜 Schmuck\, Taschen &amp\; Accessoires🎨🕯️ Handmade &amp\; K
 erzen\n☕🍰 Kaffee\, Kuchen &amp\; Snacks für eine Pause zwischendurch
 \n👉 Vorbeischauen\, Schätze entdecken &amp\; Basaratmosphäre genieße
 n!
ATTACH;FMTTYPE=image/jpeg:https://www.flohmarkt-termine.org/fotos/FLYER-b-
 Trad.-Flohmarkt-20.09._2025-09-02-1-1.png
CATEGORIES:Familienflohmarkt,Familientrödelmarkt,Fashion-Flohmarkt,Indoor
 -Flohmarkt,Kinderbekleidungsbasar
LOCATION:Braunschweig\, 📍 Wichern-Gemeinde\, David-Mansfeld-Weg 9\, Brau
 nschweig\, niedersachsen\, 38116\, Braunschweig\, Deutschland
X-APPLE-STRUCTURED-LOCATION;VALUE=URI;X-ADDRESS=📍 Wichern-Gemeinde\, Dav
 id-Mansfeld-Weg 9\, Braunschweig\, niedersachsen\, 38116\, Braunschweig\, 
 Deutschland;X-APPLE-RADIUS=100;X-TITLE=Braunschweig:geo:0,0
END:VEVENT
BEGIN:VTIMEZONE
TZID:Europe/Berlin
X-LIC-LOCATION:Europe/Berlin
BEGIN:DAYLIGHT
DTSTART:20250330T030000
TZOFFSETFROM:+0100
TZOFFSETTO:+0200
TZNAME:CEST
END:DAYLIGHT
END:VTIMEZONE
END:VCALENDAR