BEGIN:VCALENDAR
VERSION:2.0
PRODID:-//wp-events-plugin.com//7.2.3.1//EN
TZID:Europe/Berlin
X-WR-TIMEZONE:Europe/Berlin
BEGIN:VEVENT
UID:73063@flohmarkt-termine.org
DTSTART;TZID=Europe/Berlin;VALUE=DATE:20240629
DTEND;TZID=Europe/Berlin;VALUE=DATE:20240630
DTSTAMP:20240525T145104Z
URL:https://www.flohmarkt-termine.org/events/3-dorfflohmarkt-mit-dorffest-
 in-buescheich-bei-gerolstein-am-29-06-2024-ab-10-uhr/
SUMMARY:3. Dorfflohmarkt mit Dorffest in Büscheich bei Gerolstein am 29.06
 .2024 ab 10 Uhr
DESCRIPTION:\n&nbsp\;\n
CATEGORIES:Dorfflohmarkt,Flohmarkt,Trödelmarkt
LOCATION:54568 Gerolstein Büscheich\, Büscheicher Straße \, Gerolstein B
 üscheich \, Rheinland-Pfalz \, 54568\, Vulkaneifel \, Deutschland
X-APPLE-STRUCTURED-LOCATION;VALUE=URI;X-ADDRESS=Büscheicher Straße \, Ger
 olstein Büscheich \, Rheinland-Pfalz \, 54568\, Vulkaneifel \, Deutschlan
 d;X-APPLE-RADIUS=100;X-TITLE=54568 Gerolstein Büscheich:geo:0,0
END:VEVENT
BEGIN:VTIMEZONE
TZID:Europe/Berlin
X-LIC-LOCATION:Europe/Berlin
BEGIN:DAYLIGHT
DTSTART:20240331T030000
TZOFFSETFROM:+0100
TZOFFSETTO:+0200
TZNAME:CEST
END:DAYLIGHT
END:VTIMEZONE
END:VCALENDAR