BEGIN:VCALENDAR
VERSION:2.0
PRODID:-//wp-events-plugin.com//7.2.3.1//EN
TZID:Europe/Berlin
X-WR-TIMEZONE:Europe/Berlin
BEGIN:VEVENT
UID:74588@flohmarkt-termine.org
DTSTART;TZID=Europe/Berlin:20251004T090000
DTEND;TZID=Europe/Berlin:20251004T160000
DTSTAMP:20260721T091759Z
URL:https://www.flohmarkt-termine.org/events/33-bayern-ost-funk-und-elektr
 onik-flohmarkt/
SUMMARY:33. Bayern-Ost Funk- und Elektronik Flohmarkt
DESCRIPTION:
CATEGORIES:Flohmarkt
LOCATION:Rottgauhalle Eggenfelden\, Grafenweg 11\, Eggenfelden\, Bayern\, 8
 4307\, Lkr Rottal-Inn\, Deutschland
X-APPLE-STRUCTURED-LOCATION;VALUE=URI;X-ADDRESS=Grafenweg 11\, Eggenfelden\
 , Bayern\, 84307\, Lkr Rottal-Inn\, Deutschland;X-APPLE-RADIUS=100;X-TITLE
 =Rottgauhalle Eggenfelden:geo:0,0
END:VEVENT
BEGIN:VTIMEZONE
TZID:Europe/Berlin
X-LIC-LOCATION:Europe/Berlin
BEGIN:DAYLIGHT
DTSTART:20250330T030000
TZOFFSETFROM:+0100
TZOFFSETTO:+0200
TZNAME:CEST
END:DAYLIGHT
END:VTIMEZONE
END:VCALENDAR