BEGIN:VCALENDAR
VERSION:2.0
PRODID:-//wp-events-plugin.com//7.2.3.1//EN
TZID:Europe/Berlin
X-WR-TIMEZONE:Europe/Berlin
BEGIN:VEVENT
UID:66829@flohmarkt-termine.org
DTSTART;TZID=Europe/Berlin:20240407T110000
DTEND;TZID=Europe/Berlin:20240407T170000
DTSTAMP:20240123T124038Z
URL:https://www.flohmarkt-termine.org/events/antik-und-troedelmarkt-am-par
 kplatz-dwasieden-in-sassnitz-2024-04-07/
SUMMARY:Antik- und Trödelmarkt am Parkplatz Dwasieden in Sassnitz
DESCRIPTION:Der Antik- und Trödelmarkt am Parkplatz Dwasieden in Sassnitz
  findet am Sonntag von 11:00 bis 17:00 Uhr statt.\n\n[caption id="attachme
 nt_202948" align="alignnone" width="840"] Antik- und Trödelmarkt am Parkp
 latz Dwasieden in Sassnitz[/caption]\nWeitere Flohmarkt Termine in Stelle 
 und der Umgebung\nFlohmärkte in Stelle\nInformationen zu dem Antik- und T
 rödelmarkt am Parkplatz Dwasieden in Sassnitz\nDer Antik- und Trödelmar
 kt am Parkplatz Dwasieden in Sassnitz findet am Sonntag von 11:00 bis 17:0
 0 Uhr statt.\n\nAntik &amp\; Trödelmarkt Sassnitz\nStöbern - suchen - Sc
 hätze finden.\n\nDabei sein\, wenn getrödelt wird auf dem Antik &amp\; T
 rödelmarkt 18546 Sassnitz auf Rügen auf dem Dwasieden Parkplatz Sonntag 
 von 11 bis 17 Uhr.\n\nSchöne alte Dinge gibt es nur bei uns.\nIhr Herz sc
 hlägt für Antiquitäten und Trödel\, Sie mögen den Duft von altem Holz
  und Leder\, Besonders erfreuen Sie sich daran\, wenn Sie ein altes und we
 rtvolles Stück in Ihren Händen halten? Dann sind Sie bei uns genau richt
 ig!\nAuf unseren Märkten finden Sie Antiquitäten - Bilder – Schmuck 
 – Münzen – alte Bücher – Postkarten – Porzellan - Möbelstücke 
 und viele Einzelstücke für Liebhaber u.v.m. Händler aus ganz Deutschlan
 d erwarten Sie.\n\nKommen Sie und stöbern Sie nach Herzenslust.\nHier wir
 d Ihr Besuch zum Erleben\nKostenloses Parken.\n\nWir freuen uns auf Ihren 
 Besuch.\nDas Trödelteam\nFlohmarkt Termine 2026\nSonntag\, 7. April 2024 
 von 11:00 bis 17:00 Uhr\nSonntag\, 21. April 2024 von 11:00 bis 17:00 Uhr\
 nSonntag\, 5. Mai 2024 von 11:00 bis 17:00 Uhr\nSonntag\, 19. Mai 2024 von
  11:00 bis 17:00 Uhr\nSonntag\, 2. Juni 2024 von 11:00 bis 17:00 Uhr\nSonn
 tag\, 16. Juni 2024 von 11:00 bis 17:00 Uhr\nSonntag\, 7. Juli 2024 von 11
 :00 bis 17:00 Uhr\nSonntag\, 21. Juli 2024 von 11:00 bis 17:00 Uhr\nSonnta
 g\, 4. August 2024 von 11:00 bis 17:00 Uhr\nSonntag\, 18. August 2024 von 
 11:00 bis 17:00 Uhr\nSonntag\, 1. September 2024 von 11:00 bis 17:00 Uhr\n
 Sonntag\, 15. September 2024 von 11:00 bis 17:00 Uhr\nSonntag\, 6. Oktober
  2024 von 11:00 bis 17:00 Uhr\nVeranstalter\nTrödel Klaus\n038301 882210\
 n0170 7188 598\nmarkt.ruegen-mv@t-online.de\nwww.flohmarkt-kasnevitz-rüge
 n.de
ATTACH;FMTTYPE=image/jpeg:https://www.flohmarkt-termine.org/fotos/Flohmark
 t-Troedel.jpg
CATEGORIES:Antikmarkt,Antiquitätenmarkt,Flohmarkt,Trödel,Trödelmarkt
LOCATION:Sassnitz Parkplatz\, B 96 Dwasieden/Parkplatz \, Sassnitz\, Meckle
 nburg-Vorpommern\, 18546\, Rügen \, Deutschland
X-APPLE-STRUCTURED-LOCATION;VALUE=URI;X-ADDRESS=B 96 Dwasieden/Parkplatz \,
  Sassnitz\, Mecklenburg-Vorpommern\, 18546\, Rügen \, Deutschland;X-APPLE
 -RADIUS=100;X-TITLE=Sassnitz Parkplatz:geo:0,0
END:VEVENT
BEGIN:VTIMEZONE
TZID:Europe/Berlin
X-LIC-LOCATION:Europe/Berlin
BEGIN:DAYLIGHT
DTSTART:20240331T030000
TZOFFSETFROM:+0100
TZOFFSETTO:+0200
TZNAME:CEST
END:DAYLIGHT
END:VTIMEZONE
END:VCALENDAR