BEGIN:VCALENDAR
VERSION:2.0
PRODID:-//wp-events-plugin.com//7.2.3.1//EN
TZID:Europe/Berlin
X-WR-TIMEZONE:Europe/Berlin
BEGIN:VEVENT
UID:72039@flohmarkt-termine.org
DTSTART;TZID=Europe/Berlin:20240309T140000
DTEND;TZID=Europe/Berlin:20240309T160000
DTSTAMP:20240305T134509Z
URL:https://www.flohmarkt-termine.org/events/basar-rund-ums-kind-im-gallus
 saal-der-stiftung-liebenau-in-meckenbeuren/
SUMMARY:Basar rund ums Kind im Gallussaal der Stiftung Liebenau in Meckenbe
 uren
DESCRIPTION:Der Basar rund ums Kind im Gallussaal der Stiftung Liebenau in
  Meckenbeuren findet am Samstag von 14:00 bis 16:00 Uhr statt.\n\n[caption
  id="attachment_209995" align="alignnone" width="840"] Basar rund ums Kind
  im Gallussaal der Stiftung Liebenau in Meckenbeuren[/caption]\nWeitere Fl
 ohmarkt Termine in Meckenbeuren und Umgebung\nFlohmärkte in Meckenbeuren\
 n\nInformationen zu dem Basar rund ums Kind im Gallussaal der Stiftung Lie
 benau in Meckenbeuren\nDer Basar rund ums Kind im Gallussaal der Stiftung
  Liebenau in Meckenbeuren findet am Samstag von 14:00 bis 16:00 Uhr statt.
 \n\nAm Samstag\, den 9. März 2024\, öffnet der Gallussaal der Stiftung L
 iebenau in Meckenbeuren seine Türen für den Basar rund ums Kind. Von 14:
 00 bis 16:00 Uhr haben Besucher die Möglichkeit\, in einer freundlichen A
 tmosphäre nach Spielzeug\, Kinderkleidung und vielem mehr zu stöbern. De
 r Basar\, organisiert von der Kindertageseinrichtung Liebenau\, bietet ein
 e hervorragende Gelegenheit\, qualitativ hochwertige Waren für Kinder zu 
 entdecken und gleichzeitig die lokale Gemeinschaft zu unterstützen.\n\nIn
 teressierte Selbstverkäufer können einen Tisch für die Standgebühr von
  10 € reservieren. Die Tische befinden sich im Gallussaal\, einem anspre
 chenden und geräumigen Ort direkt unter der Kirche. Dies bietet eine idea
 le Plattform für Verkäufer\, ihre Produkte einem breiten Publikum zu pr
 äsentieren. Reservierungen sind ab dem 24. Februar 2024 ausschließlich 
 über die E-Mail-Adresse basar-kita-liebenau@gmx.de möglich. Dies gewähr
 leistet eine organisierte und effiziente Vorbereitung für alle Beteiligte
 n.\n\nDer Basar rund ums Kind ist nicht nur eine Veranstaltung zum Kauf un
 d Verkauf von Kinderartikeln. Er repräsentiert auch die Initiative der Ki
 ndertageseinrichtung Liebenau\, Familien und Einzelpersonen aus der Region
  zusammenzubringen. Besucher des Basars können nicht nur Schnäppchen fin
 den\, sondern auch die Arbeit und Projekte der Stiftung Liebenau kennenler
 nen. Wir laden alle Interessierten herzlich ein\, diesen besonderen Tag mi
 t uns zu erleben und die Vielfalt und Qualität der angebotenen Produkte z
 u entdecken.\nFlohmarkt Termine 2026\nSamstag\, 9. März 2024 von 14:00 bi
 s 16:00 Uhr\nVeranstalter\nKindertageseinrichtung Liebenau\nGallussaal der
  Stiftung Liebenau\nUnter der Kirche\nSiggenweilerstraße\n88074 Meckenbeu
 ren\n\nbasar-kita-liebenau@gmx.de
ATTACH;FMTTYPE=image/jpeg:https://www.flohmarkt-termine.org/fotos/Kindersa
 chenflohmarkt-1.jpg
CATEGORIES:Basar,Familienflohmarkt,Familientrödelmarkt,Flohmarkt,Kinderba
 sar ,Kinderbekleidungsbasar,Kinderflohmarkt,Kinderkleidermarkt,Kindersach
 enbasar,Kindersachenflohmarkt,Kindertrödel,Spielwarenflohmarkt,Spielzeugb
 asar
LOCATION:Gallussaal der Stiftung Liebenau in Meckenbeuren\, Siggenweilerstr
 aße \, Meckenbeuren \, Baden-Württemberg\, 88074 \, Bodenseekreis\, Deut
 schland
X-APPLE-STRUCTURED-LOCATION;VALUE=URI;X-ADDRESS=Siggenweilerstraße \, Meck
 enbeuren \, Baden-Württemberg\, 88074 \, Bodenseekreis\, Deutschland;X-AP
 PLE-RADIUS=100;X-TITLE=Gallussaal der Stiftung Liebenau in Meckenbeuren:ge
 o:0,0
END:VEVENT
BEGIN:VTIMEZONE
TZID:Europe/Berlin
X-LIC-LOCATION:Europe/Berlin
BEGIN:STANDARD
DTSTART:20231029T020000
TZOFFSETFROM:+0200
TZOFFSETTO:+0100
TZNAME:CET
END:STANDARD
END:VTIMEZONE
END:VCALENDAR