BEGIN:VCALENDAR
VERSION:2.0
PRODID:-//wp-events-plugin.com//7.2.3.1//EN
TZID:Europe/Berlin
X-WR-TIMEZONE:Europe/Berlin
BEGIN:VEVENT
UID:70505@flohmarkt-termine.org
DTSTART;TZID=Europe/Berlin:20240225T100000
DTEND;TZID=Europe/Berlin:20240225T123000
DTSTAMP:20240223T205010Z
URL:https://www.flohmarkt-termine.org/events/basar-rund-ums-kind-kinderwel
 t-in-der-gemeindehalle-walddorfhaeslach/
SUMMARY:Basar rund ums Kind KINDERWELT in der Gemeindehalle Walddorfhäslac
 h
DESCRIPTION:Der Basar rund ums Kind KINDERWELT in der Gemeindehalle Walddor
 fhäslach findet am Sonntag von 10:00 bis 12:30 Uhr statt.\n\n[caption id=
 "attachment_202387" align="alignnone" width="810"] Basar rund ums Kind KIN
 DERWELT in der Gemeindehalle Walddorfhäslach[/caption]\nWeitere Flohmarkt
  Termine in Walddorfhäslach und Umgebung\nFlohmarkt in Walddorfhäslach\n
 \nInformationen zu dem Basar rund ums Kind KINDERWELT in der Gemeindehalle
  Walddorfhäslach\nDer Basar rund ums Kind KINDERWELT in der Gemeindehalle
  Walddorfhäslach findet am Sonntag von 10:00 bis 12:30 Uhr statt.\n\nAm S
 onntag\, dem 25. Februar 2024\, öffnet die Gemeindehalle Walddorfhäslach
  ihre Türen für den dritten sortierten Kleiderbasar "KINDERWELT". Zwisch
 en 10:00 und 12:30 Uhr erwartet Besucher ein vielfältiges Angebot\, das s
 peziell auf die Bedürfnisse von Kindern ausgerichtet ist. Von liebevoll a
 usgewählter Kleidung über unverzichtbares Babyzubehör bis hin zu spanne
 ndem Spielzeug und robusten Kinderfahrzeugen – hier findet sich alles\, 
 was das Kinderherz begehrt. Die Veranstaltung bietet eine ideale Plattform
 \, um hochwertige Artikel zu erschwinglichen Preisen zu erwerben und gleic
 hzeitig andere Familien aus der Region zu treffen.\n\nInteressenten\, die 
 als Verkäufer teilnehmen möchten\, konnten sich im Vorfeld auf www.basar
 lino.de/3369 eine Verkäufernummer sichern. Aufgrund der hohen Nachfrage s
 ind aktuell alle Nummern vergeben. Dennoch besteht die Möglichkeit\, sich
  für eine Warteliste einzutragen. Erfahrungsgemäß sagen einige Verkäuf
 er kurzfristig ab\, sodass nachrückenden Interessenten eine Chance gebote
 n wird. Besonders hervorzuheben ist\, dass engagierte Helfer bei der Veran
 staltung automatisch eine Verkäufernummer erhalten\, was eine Win-Win-Sit
 uation für beide Seiten darstellt.\n\nDer Elternbeirat des Kindergartens 
 Häslach tritt als Veranstalter des Basars auf und unterstreicht damit sei
 n Engagement für die Gemeinschaft. Die Veranstaltung "KINDERWELT" ist nic
 ht nur ein Basar\, sondern auch ein gesellschaftliches Ereignis\, das Fami
 lien zusammenbringt\, den lokalen Austausch fördert und eine nachhaltige 
 Nutzung von Ressourcen unterstützt. Besucher sind herzlich eingeladen\, d
 iesen besonderen Tag in der Gemeindehalle Walddorfhäslach zu erleben und 
 bei der Schnäppchenjagd teilzunehmen.\nFlohmarkt Termine 2026\nSonntag\, 
 25. Februar 2024 von 10:00 bis 12:30 Uhr\nVeranstalter\nElternbeirat Kinde
 rgarten Häslach\nGemeindehalle Walddorfhäslach\nWeiherwiesen 2\n72141 Wa
 lddorfhäslach\n\nwww.basarlino.de/3369
ATTACH;FMTTYPE=image/jpeg:https://www.flohmarkt-termine.org/fotos/Flohmark
 t-00686.jpg
CATEGORIES:Flohmarkt,Kinderbasar ,Kinderbekleidungsbasar,Kindersachenbasa
 r,Kindersachenflohmarkt,Spielwarenflohmarkt,Spielzeugbasar
LOCATION:Gemeindehalle Walddorfhäslach\, Weiherwiesen 2 \, Walddorfhäslac
 h \, Baden-Württemberg\, 72141 \, Reutlingen\, Deutschland
X-APPLE-STRUCTURED-LOCATION;VALUE=URI;X-ADDRESS=Weiherwiesen 2 \, Walddorfh
 äslach \, Baden-Württemberg\, 72141 \, Reutlingen\, Deutschland;X-APPLE-
 RADIUS=100;X-TITLE=Gemeindehalle Walddorfhäslach:geo:0,0
END:VEVENT
BEGIN:VTIMEZONE
TZID:Europe/Berlin
X-LIC-LOCATION:Europe/Berlin
BEGIN:STANDARD
DTSTART:20231029T020000
TZOFFSETFROM:+0200
TZOFFSETTO:+0100
TZNAME:CET
END:STANDARD
END:VTIMEZONE
END:VCALENDAR