BEGIN:VCALENDAR
VERSION:2.0
PRODID:-//wp-events-plugin.com//7.2.3.1//EN
TZID:Europe/Berlin
X-WR-TIMEZONE:Europe/Berlin
BEGIN:VEVENT
UID:62224@flohmarkt-termine.org
DTSTART;TZID=Europe/Berlin:20230506T090000
DTEND;TZID=Europe/Berlin:20230506T190000
DTSTAMP:20230223T122907Z
URL:https://www.flohmarkt-termine.org/events/bayreuther-flohmarkt-auf-dem-
 volksfestplatz-in-bayreuth-2023-05-06/
SUMMARY:Bayreuther Flohmarkt auf dem Volksfestplatz in Bayreuth
DESCRIPTION:Der Bayreuther Flohmarkt auf dem Volksfestplatz in Bayreuth fi
 ndet am Samstag und Sonntag von 9:00 bis 19:00 Uhr statt.\n\n[caption id="
 attachment_176638" align="alignnone" width="810"] Wolfsbacher Stadtteilflo
 hmarkt bei Bayreuth[/caption]\nWeitere Flohmarkt Termine in Bayreuth und U
 mgebung\nFlohmärkte in Bayreuth\nInformationen zu dem Wolfsbacher Stadtte
 ilflohmarkt bei Bayreuth\nDer Bayreuther Flohmarkt auf dem Volksfestplatz
  in Bayreuth findet am Samstag und Sonntag von 9:00 bis 19:00 Uhr statt.\n
 \nDer Flohmarkt auf dem Volksfestplatz ist einer der größten und bekannt
 esten Flohmärkte in der Region Oberfranken. Er findet regelmäßig statt 
 und lockt zahlreiche Besucher aus der Stadt und der Umgebung an. Hier gibt
  es alles\, was das Herz begehrt: Von Antiquitäten über Vintage-Kleidung
  bis hin zu Büchern und Haushaltswaren.\n\nDie Stände auf dem Bayreuther
  Flohmarkt sind bunt gemischt und bieten eine riesige Auswahl an Waren. Di
 e Verkäufer sind Privatpersonen\, die ihre Schätze und Raritäten verkau
 fen. Professionelle Händler sind nicht vertreten\, der Verkauf von Neuwar
 en ist nicht gestattet. So herrscht eine tolle Atmosphäre\, die zum Stöb
 ern und Entdecken einlädt.\n\nDer Bayreuther Flohmarkt auf dem Volksfestp
 latz ist ein idealer Ort\, um Schnäppchen zu machen und seltene Gegenstä
 nde zu finden. Besonders bei Sammlern und Liebhabern von Retro- und Vintag
 e-Objekten ist der Markt sehr beliebt. Aber auch Familien mit Kindern und 
 Touristen schätzen die entspannte Atmosphäre und die Möglichkeit\, auf 
 dem Flohmarkt zu bummeln. Es lohnt sich früh da zu sein\, um die besten S
 chnäppchen zu ergattern.\n\nDie Teilnahme als Verkäufer ist einfach und 
 unkompliziert\, die Standplätze können über den Veranstalter gemietet w
 erden.\n\nDer Bayreuther Flohmarkt auf dem Volksfestplatz ist ein fester B
 estandteil des kulturellen Angebots in Bayreuth und ein Muss für alle\, d
 ie gerne stöbern und entdecken. Ob als Käufer oder Verkäufer - hier fin
 det jeder etwas nach seinem Geschmack.\nFlohmarkt Termine 2023\nSamstag + 
 Sonntag\, 6. + 7. Mai 2023 von 9:00 bis 19:00 Uhr\nVeranstalter\nBayreuth 
 Marketing &amp\; Tourismus GmbH\nDr. Manuel Becher\nOutdoor-Veranstaltungs
 team\nMarc Ermer\, Mario Brunner\, Christian Guth und Verena Horn\nOpernst
 raße 22\n95444 Bayreuth\n\n0921885 737\n0921885 741\nveranstaltungen@bayr
 euth-tourismus.de\nwww.bayreuth-tourismus.de
ATTACH;FMTTYPE=image/jpeg:https://www.flohmarkt-termine.org/fotos/Flohmark
 t-104.png
CATEGORIES:Flohmarkt
LOCATION:Volksfestplatz in Bayreuth\,   Äußere Badstraße \, Bayreuth \, 
 Bayern\, 95444 \, Bayreuth \, Deutschland
X-APPLE-STRUCTURED-LOCATION;VALUE=URI;X-ADDRESS=  Äußere Badstraße \, Ba
 yreuth \, Bayern\, 95444 \, Bayreuth \, Deutschland;X-APPLE-RADIUS=100;X-T
 ITLE=Volksfestplatz in Bayreuth:geo:0,0
END:VEVENT
BEGIN:VTIMEZONE
TZID:Europe/Berlin
X-LIC-LOCATION:Europe/Berlin
BEGIN:DAYLIGHT
DTSTART:20230326T030000
TZOFFSETFROM:+0100
TZOFFSETTO:+0200
TZNAME:CEST
END:DAYLIGHT
END:VTIMEZONE
END:VCALENDAR