BEGIN:VCALENDAR
VERSION:2.0
PRODID:-//wp-events-plugin.com//7.2.3.1//EN
TZID:Europe/Berlin
X-WR-TIMEZONE:Europe/Berlin
BEGIN:VEVENT
UID:69784@flohmarkt-termine.org
DTSTART;TZID=Europe/Berlin:20240714T090000
DTEND;TZID=Europe/Berlin:20240714T160000
DTSTAMP:20240212T183404Z
URL:https://www.flohmarkt-termine.org/events/flohmarkt-alsterfloh-am-alste
 rdorfer-markt-in-hamburg-nord-2024-07-14/
SUMMARY:Flohmarkt Alsterfloh am Alsterdorfer Markt in Hamburg-Nord
DESCRIPTION:Der Flohmarkt Alsterfloh am Alsterdorfer Markt in Hamburg-Nord
  findet am Sonntag von 9:00 bis 16:00 Uhr statt.\n\n[caption id="attachmen
 t_199175" align="alignnone" width="810"] Flohmarkt Alsterfloh am Alsterdor
 fer Markt in Hamburg-Nord[/caption]\nWeitere Flohmarkt Termine in Hamburg 
 und der Umgebung\nFlohmärkte in Hamburg\nInformationen zu dem Flohmarkt 
 Alsterfloh am Alsterdorfer Markt in Hamburg-Nord\nDer Flohmarkt Alsterflo
 h am Alsterdorfer Markt in Hamburg-Nord findet am Sonntag von 9:00 bis 16:
 00 Uhr statt.\n\nDer Flohmarkt Alsterfloh am Alsterdorfer Markt in Hamburg
 -Nord bietet einmalige Gelegenheiten\, in einer besonders familiären und 
 ruhigen Atmosphäre zu stöbern. Von Mai bis September öffnet dieser priv
 ate Flohmarkt mehrmals im Jahr seine Pforten für jedermann. Die Besucher 
 können von 9:00 bis 16:00 Uhr nach Herzenslust zwischen den Ständen flan
 ieren\, während die Aussteller bereits ab 7:00 Uhr mit dem Aufbau beginne
 n. Dieser Markt ist nicht nur ein Paradies für Schnäppchenjäger\, sonde
 rn auch ein Ort\, an dem man die Seele baumeln lassen kann.\n\nHier findet
  man alles\, was das Herz begehrt: Von Antiquitäten über Kleidung bis hi
 n zu Spielzeug und Büchern. Der Alsterfloh bietet eine breite Palette an 
 Waren\, die sowohl Sammler als auch Gelegenheitsbesucher ansprechen. Die e
 ntspannte Atmosphäre lädt dazu ein\, in Ruhe zu stöbern und die eine od
 er andere Rarität zu entdecken. Zudem sorgen kulinarische Angebote wie Br
 atwurst und Waffeln dafür\, dass auch das leibliche Wohl nicht zu kurz ko
 mmt.\n\nEin Besuch am Alsterfloh ist somit eine perfekte Wochenendaktivit
 ät für die ganze Familie. Die Kombination aus gemütlicher Atmosphäre\,
  vielfältigem Angebot und leckeren Snacks macht diesen Flohmarkt zu einem
  Highlight im Veranstaltungskalender von Hamburg-Nord. Ob man nun auf der 
 Suche nach besonderen Stücken ist oder einfach einen angenehmen Tag mit d
 er Familie verbringen möchte\, der Alsterfloh am Alsterdorfer Markt ist d
 efinitiv einen Besuch wert.\nFlohmarkt Termine 2026\nSonntag\, 12. Mai 202
 4 von 9:00 bis 16:00 Uhr\nSonntag\, 9. Juni 2024 von 9:00 bis 16:00 Uhr\nS
 onntag\, 14. Juli 2024 von 9:00 bis 16:00 Uhr\nSonntag\, 8. September 2024
  von 9:00 bis 16:00 Uhr\nVeranstalter\nKulturküche\nAlsterdorfer Markt 18
 \n22297 Hamburg\n\n040 50 77 20 20\nevents@alsterdorf.de\nwww.alsterdorf.d
 e
ATTACH;FMTTYPE=image/jpeg:https://www.flohmarkt-termine.org/fotos/850_0079
 -Bearbeitet.jpg
CATEGORIES:Flohmarkt
LOCATION:Alsterdorfer Markt in Hamburg-Nord\, Alsterdorfer Markt \, Hamburg
 -Nord\, Hamburg\, Hamburg\, Deutschland
X-APPLE-STRUCTURED-LOCATION;VALUE=URI;X-ADDRESS=Alsterdorfer Markt \, Hambu
 rg-Nord\, Hamburg\, Hamburg\, Deutschland;X-APPLE-RADIUS=100;X-TITLE=Alste
 rdorfer Markt in Hamburg-Nord:geo:0,0
END:VEVENT
BEGIN:VTIMEZONE
TZID:Europe/Berlin
X-LIC-LOCATION:Europe/Berlin
BEGIN:DAYLIGHT
DTSTART:20240331T030000
TZOFFSETFROM:+0100
TZOFFSETTO:+0200
TZNAME:CEST
END:DAYLIGHT
END:VTIMEZONE
END:VCALENDAR