BEGIN:VCALENDAR
VERSION:2.0
PRODID:-//wp-events-plugin.com//7.2.3.1//EN
TZID:Europe/Berlin
X-WR-TIMEZONE:Europe/Berlin
BEGIN:VEVENT
UID:57400@flohmarkt-termine.org
DTSTART;TZID=Europe/Berlin:20221001T090000
DTEND;TZID=Europe/Berlin:20221001T150000
DTSTAMP:20220801T063901Z
URL:https://www.flohmarkt-termine.org/events/flohmarkt-am-bahnhofplatz-in-
 bad-saeckingen-2022-10-01/
SUMMARY:Flohmarkt am Bahnhofplatz in Bad Säckingen
DESCRIPTION:Der Flohmarkt am Bahnhofplatz in Bad Säckingen findet am Samst
 ag von 9:00 bis 15:00 Uhr statt.\n\n[caption id="attachment_161675" align=
 "alignnone" width="810"] Flohmarkt am Bahnhofplatz in Bad Säckingen[/capt
 ion]\nFlohmarkt Termine in Bad Säckingen und der Umgebung\nFlohmärkte in
  Bad Säckingen\nInformationen zu dem Flohmarkt am Bahnhofplatz in Bad Sä
 ckingen\nDer Flohmarkt am Bahnhofplatz in Bad Säckingen findet am Samstag
  von 9:00 bis 15:00 Uhr statt.\nFlohmarkt Termine 2022\nSamstag\, 13. Augu
 st 2022 von 9:00 bis 15:00 Uhr\nSamstag\, 3. September 2022 von 9:00 bis 1
 5:00 Uhr\nSamstag\, 1. Oktober 2022 von 9:00 bis 15:00 Uhr\nVeranstalter\n
 Martina Wiepcke\n79713 Bad Säckingen\n0173 3951020
ATTACH;FMTTYPE=image/jpeg:https://www.flohmarkt-termine.org/fotos/Flohmark
 t-Kalender-2022.jpg
CATEGORIES:Flohmarkt
LOCATION:Bad Säckingen\, Bahnhofsplatz\, Bad Säckingen\, Baden-Württembe
 rg\, 79713\, Waldshut\, Deutschland
X-APPLE-STRUCTURED-LOCATION;VALUE=URI;X-ADDRESS=Bahnhofsplatz\, Bad Säckin
 gen\, Baden-Württemberg\, 79713\, Waldshut\, Deutschland;X-APPLE-RADIUS=1
 00;X-TITLE=Bad Säckingen:geo:0,0
END:VEVENT
BEGIN:VTIMEZONE
TZID:Europe/Berlin
X-LIC-LOCATION:Europe/Berlin
BEGIN:DAYLIGHT
DTSTART:20220327T030000
TZOFFSETFROM:+0100
TZOFFSETTO:+0200
TZNAME:CEST
END:DAYLIGHT
END:VTIMEZONE
END:VCALENDAR