BEGIN:VCALENDAR
VERSION:2.0
PRODID:-//wp-events-plugin.com//7.2.3.1//EN
TZID:Europe/Berlin
X-WR-TIMEZONE:Europe/Berlin
BEGIN:VEVENT
UID:56408@flohmarkt-termine.org
DTSTART;TZID=Europe/Berlin:20221008T090000
DTEND;TZID=Europe/Berlin:20221008T160000
DTSTAMP:20220512T090145Z
URL:https://www.flohmarkt-termine.org/events/flohmarkt-am-festplatz-flugfe
 ld-in-boeblingen-2022-10-08/
SUMMARY:Flohmarkt am Festplatz Flugfeld in Böblingen
DESCRIPTION:Der Flohmarkt am Festplatz Flugfeld in Böblingen findet am Sam
 stag von 9:00 bis 16:00 Uhr statt.\n\n[caption id="attachment_177500" alig
 n="alignnone" width="810"] Flohmarkt am Festplatz Flugfeld in Böblingen[/
 caption]\nWeitere Flohmarkt Termine in Böblingen und der Umgebung\nFlohm
 ärkte in Böblingen\nInformationen zu dem Flohmarkt am Festplatz Flugfeld
  in Böblingen\nDer Flohmarkt am Festplatz Flugfeld in Böblingen findet a
 m Samstag von 9:00 bis 16:00 Uhr statt.\n\nEine Voranmeldung ist nicht erf
 orderlich. Einfach vorbeikommen.\n\nDer Aufbau erfolgt ab 6:00 Uhr.\n\nDer
  laufende Meter kostet 9\,00 €. Bezahlung vor Ort. Auto ist kostenlos am
  Stand möglich.\n\nOhne Test\, ohne Impfnachweis.\nFlohmarkt Termine 2022
 \nSamstag\, 28.05.2022 von 9:00 bis 16:00 Uhr\nSamstag\, 27.08.2022 von 9:
 00 bis 16:00 Uhr\nSamstag\, 08.10.2022 von 9:00 bis 16:00 Uhr\nVeranstalte
 r\nGero’s Flohmarkt\nGero Weickmann\nPlanie 16/2\n72764 Reutlingen\n\n07
 121 410047 0\ninfo@geros-flohmarkt.de\nwww.gerosflohmarkt.de
ATTACH;FMTTYPE=image/jpeg:https://www.flohmarkt-termine.org/fotos/Flohmark
 t-01-12.jpg
CATEGORIES:Flohmarkt
LOCATION:Festplatz Flugfeld in Böblingen\, Wolfgang-Brumme-Allee\, Böblin
 gen\, Baden-Württemberg\, 71034\, Deutschland
X-APPLE-STRUCTURED-LOCATION;VALUE=URI;X-ADDRESS=Wolfgang-Brumme-Allee\, Bö
 blingen\, Baden-Württemberg\, 71034\, Deutschland;X-APPLE-RADIUS=100;X-TI
 TLE=Festplatz Flugfeld in Böblingen:geo:0,0
END:VEVENT
BEGIN:VTIMEZONE
TZID:Europe/Berlin
X-LIC-LOCATION:Europe/Berlin
BEGIN:DAYLIGHT
DTSTART:20220327T030000
TZOFFSETFROM:+0100
TZOFFSETTO:+0200
TZNAME:CEST
END:DAYLIGHT
END:VTIMEZONE
END:VCALENDAR