BEGIN:VCALENDAR
VERSION:2.0
PRODID:-//wp-events-plugin.com//7.2.3.1//EN
TZID:Europe/Berlin
X-WR-TIMEZONE:Europe/Berlin
BEGIN:VEVENT
UID:43020@flohmarkt-termine.org
DTSTART;TZID=Europe/Berlin:20291002T080000
DTEND;TZID=Europe/Berlin:20291002T180000
DTSTAMP:20220102T102329Z
URL:https://www.flohmarkt-termine.org/events/flohmarkt-am-melchendorfer-ma
 rkt-in-erfurt-2029-10-02/
SUMMARY:Flohmarkt am Melchendorfer Markt in Erfurt
DESCRIPTION:Der Flohmarkt am Melchendorfer Markt in Erfurt findet von 08:00
  bis 18:00 Uhr statt.\n\n[caption id="attachment_123160" align="alignnone"
  width="810"] Flohmarkt am Melchendorfer Markt in Erfurt[/caption]\nFlohma
 rkt Termine Erfurt Melchendorfer Markt 2022\n&nbsp\;\nWeitere Flohmarkt Te
 rmine in Erfurt und Umgebung\nFlohmärkte in Erfurt\nInformationen zum Flo
 hmarkt in Erfurt\nDie Teilnahme am Flohmarkt im Melchendorfer Markt ist f
 ür jeden möglich. Die Standgebühr pro Stand beträgt 3\,00 € für Geb
 rauchtwaren. Standgelegenheiten sind selber mitzubringen. Neuwaren bitte e
 inen Tag vorher im Centermanagement anmelden.\nVeranstalter\nMelchendorfer
  Markt\nAm Drosselberg 45\n99097 Erfurt\n\n0361 4172120\n\nwww.melchendorf
 er-markt.de
ATTACH;FMTTYPE=image/jpeg:https://www.flohmarkt-termine.org/fotos/Flohmark
 t-Eberstadt.jpg
CATEGORIES:Flohmarkt
LOCATION:Melchendorfer Markt Erfurt\, Am Drosselberg 45\, Erfurt\, Thüring
 en\, 99097\, Deutschland
X-APPLE-STRUCTURED-LOCATION;VALUE=URI;X-ADDRESS=Am Drosselberg 45\, Erfurt\
 , Thüringen\, 99097\, Deutschland;X-APPLE-RADIUS=100;X-TITLE=Melchendorfe
 r Markt Erfurt:geo:0,0
END:VEVENT
BEGIN:VTIMEZONE
TZID:Europe/Berlin
X-LIC-LOCATION:Europe/Berlin
BEGIN:DAYLIGHT
DTSTART:20290325T030000
TZOFFSETFROM:+0100
TZOFFSETTO:+0200
TZNAME:CEST
END:DAYLIGHT
END:VTIMEZONE
END:VCALENDAR