BEGIN:VCALENDAR
VERSION:2.0
PRODID:-//wp-events-plugin.com//7.2.3.1//EN
TZID:Europe/Berlin
X-WR-TIMEZONE:Europe/Berlin
BEGIN:VEVENT
UID:61110@flohmarkt-termine.org
DTSTART;TZID=Europe/Berlin:20231118T140000
DTEND;TZID=Europe/Berlin:20231118T190000
DTSTAMP:20240201T164920Z
URL:https://www.flohmarkt-termine.org/events/flohmarkt-am-penny-in-der-aep
 pelallee-in-wiesbaden-2023-11-18/
SUMMARY:Flohmarkt am Penny in der Äppelallee in Wiesbaden
DESCRIPTION:Der Flohmarkt am Penny in der Äppelallee in Wiesbaden findet 
 am Samstag von 14:00 bis 19:00 Uhr statt.\n\n[caption id="attachment_18799
 0" align="alignnone" width="810"] Flohmarkt am Penny in der Äppelallee in
  Wiesbaden[/caption]\nWeitere Flohmarkt Termine in Wiesbaden und Umgebung\
 nFlohmärkte in Wiesbaden\nInformationen zu dem Flohmarkt am Penny in der 
 Äppelallee in Wiesbaden\nDer Flohmarkt am Penny in der Äppelallee in Wi
 esbaden findet am Samstag von 14:00 bis 19:00 Uhr statt.\n\n\n\n\n\n\n\n\n
 \n\n\nDer Flohmarkt am Penny in der Äppelallee in Wiesbaden ist ein Einka
 ufs- und Verkaufserlebnis der besonderen Art. Hier trifft man auf eine bun
 te Vielfalt an Gegenständen und kann nach Herzenslust stöbern\, feilsche
 n und echte Schnäppchen machen. Der Flohmarkt ist jeden Samstag ein belie
 bter Treffpunkt für Trödel- und Sammlerfreunde aus nah und fern.\n\nDie 
 Platzreservierung kann online bis einen Tag vor der Veranstaltung um 12 Uh
 r erfolgen oder vor Ort am Samstag ab 13:00 Uhr.\n\nDas Flohmarktgelände 
 bietet zahlreiche Parkmöglichkeiten und verfügt über überdachte Ständ
 e.\n\nFür das leibliche Wohl sorgt eine gut ausgestattete Gastronomie.\n\
 nErlebe auf dem Flohmarkt am Penny in der Äppelallee in Wiesbaden eine un
 vergessliche Stöber- und Einkaufstour. Hier schlägt das Herz jedes Tröd
 el- und Schnäppchenjägers höher.\n\n\n\n\n\n\n\n\n\n\n\nFlohmarkt Termi
 ne 2026\njeder Samstag von 14:00 bis 19:00 Uhr\n\nSamstag\, 4. Februar 202
 3 von 14:00 bis 19:00 Uhr\nSamstag\, 11. Februar 2023 von 14:00 bis 19:00 
 Uhr\nSamstag\, 18. Februar 2023 von 14:00 bis 19:00 Uhr\nSamstag\, 25. Feb
 ruar 2023 von 14:00 bis 19:00 Uhr\nSamstag\, 4. März 2023 von 14:00 bis 1
 9:00 Uhr\nSamstag\, 11. März 2023 von 14:00 bis 19:00 Uhr\nSamstag\, 18. 
 März 2023 von 14:00 bis 19:00 Uhr\nSamstag\, 25. März 2023 von 14:00 bis
  19:00 Uhr\nSamstag\, 1. April 2023 von 14:00 bis 19:00 Uhr\nSamstag\, 8. 
 April 2023 von 14:00 bis 19:00 Uhr\nSamstag\, 15. April 2023 von 14:00 bis
  19:00 Uhr\nSamstag\, 22. April 2023 von 14:00 bis 19:00 Uhr\nSamstag\, 29
 . April 2023 von 14:00 bis 19:00 Uhr\nSamstag\, 6. Mai 2023 von 14:00 bis 
 19:00 Uhr\nSamstag\, 13. Mai 2023 von 14:00 bis 19:00 Uhr\nSamstag\, 20. M
 ai 2023 von 14:00 bis 19:00 Uhr\nSamstag\, 27. Mai 2023 von 14:00 bis 19:0
 0 Uhr\nSamstag\, 3. Juni 2023 von 14:00 bis 19:00 Uhr\nSamstag\, 10. Juni 
 2023 von 14:00 bis 19:00 Uhr\nSamstag\, 17. Juni 2023 von 14:00 bis 19:00 
 Uhr\nSamstag\, 24. Juni 2023 von 14:00 bis 19:00 Uhr\nVeranstalter\nWeiß 
 Veranstaltungsservice\nMax-Planck-Str. 24\n65779 Kelkheim\n\n06195 9199400
 \nFax 06195 9199429\nnfo@weiss-maerkte.de\nwww.weiss-maerkte.de
ATTACH;FMTTYPE=image/jpeg:https://www.flohmarkt-termine.org/fotos/Flohmark
 t-089.jpg
CATEGORIES:Flohmarkt
LOCATION:Penny Äppelallee Wiesbaden\, Äppelallee 27\, Wiesbaden\, Hessen\
 , 65203 \, Wiesbaden\, Deutschland
X-APPLE-STRUCTURED-LOCATION;VALUE=URI;X-ADDRESS=Äppelallee 27\, Wiesbaden\
 , Hessen\, 65203 \, Wiesbaden\, Deutschland;X-APPLE-RADIUS=100;X-TITLE=Pen
 ny Äppelallee Wiesbaden:geo:0,0
END:VEVENT
BEGIN:VTIMEZONE
TZID:Europe/Berlin
X-LIC-LOCATION:Europe/Berlin
BEGIN:STANDARD
DTSTART:20231029T020000
TZOFFSETFROM:+0200
TZOFFSETTO:+0100
TZNAME:CET
END:STANDARD
END:VTIMEZONE
END:VCALENDAR