BEGIN:VCALENDAR
VERSION:2.0
PRODID:-//wp-events-plugin.com//7.2.3.1//EN
TZID:Europe/Berlin
X-WR-TIMEZONE:Europe/Berlin
BEGIN:VEVENT
UID:67147@flohmarkt-termine.org
DTSTART;TZID=Europe/Berlin:20240622T100000
DTEND;TZID=Europe/Berlin:20240622T150000
DTSTAMP:20240129T143524Z
URL:https://www.flohmarkt-termine.org/events/flohmarkt-am-viehmarktplatz-i
 n-weil-der-stadt/
SUMMARY:Flohmarkt am Viehmarktplatz in Weil der Stadt
DESCRIPTION:Der Flohmarkt am Viehmarktplatz in Weil der Stadt findet am Sa
 mstag von 10:00 bis 15:00 Uhr statt.\n\n[caption id="attachment_203047" al
 ign="alignnone" width="840"] Flohmarkt am Viehmarktplatz in Weil der Stadt
 [/caption]\nWeitere Flohmarkt Termine in Weil der Stadt und der Umgebung\n
 Flohmärkte in Weil der Stadt\nInformationen zu dem Flohmarkt am Viehmark
 tplatz in Weil der Stadt\nDer Flohmarkt am Viehmarktplatz in Weil der Sta
 dt findet am Samstag von 10:00 bis 15:00 Uhr statt.\n\nDer Flohmarkt am Vi
 ehmarktplatz in Weil der Stadt ist tolle Veranstaltung für Liebhaber von 
 Trödel und Antiquitäten. Am Samstag verwandelt sich der Viehmarktplatz i
 n ein Paradies für Trödelfreunde. Die Veranstaltung beginnt um 10:00 Uhr
 \, bietet den Ausstellern bereits ab 08:00 Uhr mit dem Aufbau zu beginnen.
  Bis 15:00 Uhr können Besucher die vielfältigen Stände erkunden und nac
 h Herzenslust in einem breiten Angebot von Gebrauchtwaren\, Sammlerstücke
 n und Raritäten stöbern.\n\nIn enger Zusammenarbeit mit dem GHV Weil der
  Stadt\, bietet dieser Flohmarkt eine ideale Plattform für lokale Verkäu
 fer und gewerbliche Händler. Die Standgebühren betragen mit einer Voranm
 eldung pro laufenden Meter 9\,00 Euro\, während die Gebühr bei einer Anm
 eldung vor Ort auf 10\,00 Euro pro Meter ansteigt.\n\nDer Veranstaltungsor
 t\, der Viehmarktplatz\, liegt zentral in Weil der Stadt und ist leicht zu
 gänglich. Besucher können sich auf eine bunte Mischung aus privaten und 
 gewerblichen Ständen freuen.\nFlohmarkt Termine 2026\nSamstag\, 22. Juni 
 2024 von 10:00 bis 15:00 Uhr\nVeranstalter\nBirkenbach OHG\nRobert-Bosch-S
 traße 4\n71154 Nufringen\n\n07034 992089\ninfo@birkenbach-veranstaltungen
 .de\nwww.birkenbach-veranstaltungen.de\n\nGHV Weil der Stadt
ATTACH;FMTTYPE=image/jpeg:https://www.flohmarkt-termine.org/fotos/Antikmar
 kt-1.jpg
CATEGORIES:Flohmarkt
LOCATION:Viehmarktplatz in Weil der Stadt\, Viehmarktplatz\,  Weil der Stad
 t \, Baden-Württemberg\, 71263 \, Böblingen\, Deutschland
X-APPLE-STRUCTURED-LOCATION;VALUE=URI;X-ADDRESS=Viehmarktplatz\,  Weil der 
 Stadt \, Baden-Württemberg\, 71263 \, Böblingen\, Deutschland;X-APPLE-RA
 DIUS=100;X-TITLE=Viehmarktplatz in Weil der Stadt:geo:0,0
END:VEVENT
BEGIN:VTIMEZONE
TZID:Europe/Berlin
X-LIC-LOCATION:Europe/Berlin
BEGIN:DAYLIGHT
DTSTART:20240331T030000
TZOFFSETFROM:+0100
TZOFFSETTO:+0200
TZNAME:CEST
END:DAYLIGHT
END:VTIMEZONE
END:VCALENDAR