BEGIN:VCALENDAR
VERSION:2.0
PRODID:-//wp-events-plugin.com//7.2.3.1//EN
TZID:Europe/Berlin
X-WR-TIMEZONE:Europe/Berlin
BEGIN:VEVENT
UID:60158@flohmarkt-termine.org
DTSTART;TZID=Europe/Berlin:20230504T070000
DTEND;TZID=Europe/Berlin:20230504T130000
DTSTAMP:20230126T112507Z
URL:https://www.flohmarkt-termine.org/events/flohmarkt-an-der-rennbahn-in-
 dortmund-wambel-2023-05-04/
SUMMARY:Flohmarkt an der Rennbahn in Dortmund-Wambel
DESCRIPTION:Der Flohmarkt an der Rennbahn in Dortmund-Wambel findet jeden D
 onnerstag von 7:00 bis 13:00 Uhr statt.\n\n[caption id="attachment_177012"
  align="alignnone" width="810"] Flohmarkt an der Rennbahn in Dortmund-Wamb
 el[/caption]\nWeitere Flohmarkt Termine in Dortmund und der Umgebung\nFloh
 märkte in Dortmund\nInformationen zu dem Flohmarkt an der Rennbahn in Dor
 tmund-Wambel\nDer Flohmarkt an der Dortmunder Galopprennbahn in Dortmund-W
 ambel findet jeden Donnerstag außer an Feiertagen von 7:00 bis 13:00 Uhr 
 statt. Der Dortmunder Donnerstagsmarkt findet seit über 20 Jahren mitten 
 im Grünen unter Bäumen statt. Es stehen auf zwei Parkflächen ausreichen
 d Parkplätze zu Verfügung.\n\n\n\n\nDer Flohmarkt an der Rennbahn in Dor
 tmund-Wambel ist ein beliebter Ort für Schnäppchenjäger und Trödel-Fan
 s. Hier kann man alles Mögliche finden\, von gebrauchten Möbeln und Haus
 haltsgegenständen bis hin zu seltenen Sammlerstücken und Vintage-Kleidun
 g. Der Flohmarkt findet jeden Donnerstag außer an Feiertagen im Monat sta
 tt und zieht Besucher aus der gesamten Region an.\n\nEin besonderes Highli
 ght des Flohmarkts ist die große Auswahl an Second-Hand-Mode. Hier kann m
 an echte Schätze entdecken und tolle Stücke zu einem Bruchteil des Neupr
 eises erstehen. Auch für Kinder ist der Flohmarkt ein echtes Paradies\, d
 enn hier gibt es jede Menge Spielzeug und Kinderkleidung zu entdecken.\n\n
 Der Flohmarkt an der Rennbahn in Dortmund-Wambel ist ein echter Geheimtipp
  für alle\, die auf der Suche nach besonderen Schnäppchen und Raritäten
  sind. Hier trifft man auf eine bunte Mischung aus Menschen und es herrsch
 t eine tolle Atmosphäre. Wer einmal da war\, wird sicherlich wiederkommen
 .\n\nDer Flohmarkt ist eine ideale Möglichkeit\, um gezielt nach bestimmt
 en Gegenständen zu suchen und gleichzeitig auf Entdeckungstour zu gehen. 
 Es ist eine gute Gelegenheit\, um ein paar Stunden in der Natur zu verbrin
 gen und dabei tolle Schnäppchen zu machen.\n\nDer Flohmarkt an der Rennba
 hn in Dortmund-Wambel ist eine wahre Fundgrube für alle\, die auf der Suc
 he nach besonderen Schätzen und Schnäppchen sind. Besuchen Sie den Flohm
 arkt und entdecken Sie die vielfältigen Waren.\n\n\n\n\nVerkäufer\nAufba
 uzeiten\nJanuar bis Dezember ab 6:00 Uhr\n\nDas Verlassen des Marktes als 
 Händler ist erst nach Marktende zulässig.\nStandpreise\nTrödel kostet p
 ro Laufender Meter auf dem Freigelände 7\,00 € bei einer Mindestfläche
  von 2 Metern zzgl. 1\,00 € Grundgebühr pro Stand\nPauschalangebot für
  Trödel: 4 Meter Standfläche inkl. PKW am Stand für 25\,00 € inklusiv
 e Grundgebühr\nNeuwaren kosten pro Laufender Meter 8\,00 € bei einer Mi
 ndestfläche von 2 Metern zzgl. 1\,00 € Grundgebühr pro Stand\n\nVerkeh
 rsanbindung\nDie Rennbahn liegt nahe der B 1 und ist mit dem Auto gut zu e
 rreichen.\n\nÖffentlicher Nahverkehr\nHaltestelle Rennbahn (Bus Linie 427
 )\nS-Bahn Haltestelle DO-Knappschaftskrankenhaus (S-Bahn 4)\, ca. 1 Kilome
 ter bis zum Trödelmarkt\nVeranstaltungsort\nRennbahn Dortmund-Wambel\nRen
 nweg 70\n44143 Dortmund\nFlohmarkt Termine 2023\njeden Donnerstag außer a
 n Feiertagen von 7:00 bis 13:00 Uhr\nVeranstalter\nMARKTCOM Eventwerkstatt
  GmbH\nBerghoferstraße 243\n44269 Dortmund\n\n0231 565592 10\nhallo@markt
 com-maerkte.de\nwww.meine-flohmarkt-termine.de
ATTACH;FMTTYPE=image/jpeg:https://www.flohmarkt-termine.org/fotos/Flohmark
 t-022.png
CATEGORIES:Flohmarkt,Trödel,Trödelmarkt
LOCATION:Rennbahn Dortmund-Wambel\, Rennweg 70\, Dortmund\, Nordrhein-Westf
 alen\, 44143\, Deutschland
X-APPLE-STRUCTURED-LOCATION;VALUE=URI;X-ADDRESS=Rennweg 70\, Dortmund\, Nor
 drhein-Westfalen\, 44143\, Deutschland;X-APPLE-RADIUS=100;X-TITLE=Rennbahn
  Dortmund-Wambel:geo:0,0
END:VEVENT
BEGIN:VTIMEZONE
TZID:Europe/Berlin
X-LIC-LOCATION:Europe/Berlin
BEGIN:DAYLIGHT
DTSTART:20230326T030000
TZOFFSETFROM:+0100
TZOFFSETTO:+0200
TZNAME:CEST
END:DAYLIGHT
END:VTIMEZONE
END:VCALENDAR