BEGIN:VCALENDAR
VERSION:2.0
PRODID:-//wp-events-plugin.com//7.2.3.1//EN
TZID:Europe/Berlin
X-WR-TIMEZONE:Europe/Berlin
BEGIN:VEVENT
UID:74980@flohmarkt-termine.org
DTSTART;TZID=Europe/Berlin:20260509T110000
DTEND;TZID=Europe/Berlin:20260509T150000
DTSTAMP:20260407T135309Z
URL:https://www.flohmarkt-termine.org/events/flohmarkt-auf-dem-campus-stei
 lshoop-2/
SUMMARY:Flohmarkt auf dem Campus Steilshoop
DESCRIPTION:Kontakdaten: Katharina von Hartmann \nE-Mail: kurse@agdaz.de 
 \nAdresse: A.G.D.A.Z. \, Gropiusring 43\, 22309 Hamburg \nStandanmeldung:
  Standanmeldung ab jetzt unter kurse@agdaz.de oder 040/ 633 115 31 möglic
 h. Kosten 3€ pro Meter oder 5€ pro Tisch (Tische werden nur drinnen an
 geboten). Keine gewerblichen Händler.\n&nbsp\;\n&nbsp\;\n&nbsp\;
ATTACH;FMTTYPE=image/jpeg:https://www.flohmarkt-termine.org/fotos/Flohmark
 t_Mai-ganz-klein.jpg
CATEGORIES:Familienflohmarkt,Flohmarkt,Nachbarschaftsflohmarkt,Stadtteilfl
 ohmarkt
LOCATION:Campus Steilshoop in Hamburg\, Gropiusring 43A \, Hamburg\, Steils
 hoop \, Hamburg\, 22309\, Hamburg\, Deutschland
X-APPLE-STRUCTURED-LOCATION;VALUE=URI;X-ADDRESS=Gropiusring 43A \, Hamburg\
 , Steilshoop \, Hamburg\, 22309\, Hamburg\, Deutschland;X-APPLE-RADIUS=100
 ;X-TITLE=Campus Steilshoop in Hamburg:geo:0,0
END:VEVENT
BEGIN:VTIMEZONE
TZID:Europe/Berlin
X-LIC-LOCATION:Europe/Berlin
BEGIN:DAYLIGHT
DTSTART:20260329T030000
TZOFFSETFROM:+0100
TZOFFSETTO:+0200
TZNAME:CEST
END:DAYLIGHT
END:VTIMEZONE
END:VCALENDAR