BEGIN:VCALENDAR
VERSION:2.0
PRODID:-//wp-events-plugin.com//7.2.3.1//EN
TZID:Europe/Berlin
X-WR-TIMEZONE:Europe/Berlin
BEGIN:VEVENT
UID:70349@flohmarkt-termine.org
DTSTART;TZID=Europe/Berlin:20240413T070000
DTEND;TZID=Europe/Berlin:20240413T140000
DTSTAMP:20240219T100953Z
URL:https://www.flohmarkt-termine.org/events/flohmarkt-auf-dem-festplatz-d
 illplatz-in-stockach-2024-04-13/
SUMMARY:Flohmarkt auf dem Festplatz Dillplatz in Stockach
DESCRIPTION:Der Flohmarkt auf dem Festplatz Dillplatz in Stockach findet am
  Samstag von 7:00 bis 16:00 Uhr statt.\n\n[caption id="attachment_158563" 
 align="alignnone" width="810"] Flohmarkt auf dem Festplatz Dillplatz in St
 ockach[/caption]\nWeitere Flohmarkt Termine in Stockach und der Umgebung\n
 Flohmärkte in Stockach\nInformationen zu dem Flohmarkt auf dem Festplatz 
 Dillplatz in Stockach\nDer Flohmarkt am Festplatz in Wiesloch findet am Sa
 mstag von 7:00 bis 16:00 Uhr statt.\n\nÜber die Onlinereservierung mit an
 schließender Bezahlung der Standgebühr erfolgt eine Standreservierung. D
 as bedeutet \,für Sie ist sicher ein Platz am gewünschten Termin verfüg
 bar.\n\nBitte beachten Sie die angegebene Verkaufszeit\, welche nichts mit
  dem Auf- und Abbau zu tun hat. Der Auf- bzw. Abbau erfolgt davor bzw. dan
 n nach dem Verkauf. Zum Beispiel: Aufbau ist um 7:00 Uhr\, Verkauf beginnt
  dann um 8:00 Uhr bis 16:00 Uhr\, danach beginnt der Abbau.\n\nDas Reservi
 erungsformular finden Sie online unter www.fma-flohmarktagentur.de bei dem
  jeweiligen Termin. Nach der Benutzung und Abschicken des Reservierungsfor
 mulars erhalten Sie in jedem Fall eine Bestätigungsmail\, alternativ nehm
 en wir auch Online-Reservierungen per Mail entgegen unter info@fma-flohmar
 ktagentur.de\n\nDer laufende Meter Trödel- und Gebrauchtwaren Vorkasse vo
 r Ort kostet 9 €.\n\nKleiderständer 3 €.\n\nWenn Sie Onlinereservieru
 ng machen kostet der laufende Meter kostet 8 €.\n\nKleiderständer 2 €
 .\n\nNatürlich können Sie gern anrufen\, Telefonnummer :0157/52925606\n\
 noder über WhatsApp schreiben.\n\nIhr Flohmarktveranstalter\nFlohmarkt Te
 rmine 2026\nSamstag\, 13. April 2024 von 7:00 bis 16:00 Uhr\nSamstag\, 3. 
 August 2024 von 7:00 bis 16:00 Uhr\nVeranstalter\nFMA-Flohmarktagentur\nOk
 tay Özdemir\n73252 Lenningen\n\n0157 52925606\ninfo@fma-flohmarktagentur.
 de\nwww.fma-flohmarktagentur.de
ATTACH;FMTTYPE=image/jpeg:https://www.flohmarkt-termine.org/fotos/Flohmark
 t-053.jpg
CATEGORIES:Flohmarkt
LOCATION:Festplatz Dillplatz in Stockach\, Dillstr. 4\, Stockach\, Baden-W
 ürttemberg\, 78333\, Deutschland
X-APPLE-STRUCTURED-LOCATION;VALUE=URI;X-ADDRESS=Dillstr. 4\, Stockach\, Bad
 en-Württemberg\, 78333\, Deutschland;X-APPLE-RADIUS=100;X-TITLE=Festplatz
  Dillplatz in Stockach:geo:0,0
END:VEVENT
BEGIN:VTIMEZONE
TZID:Europe/Berlin
X-LIC-LOCATION:Europe/Berlin
BEGIN:DAYLIGHT
DTSTART:20240331T030000
TZOFFSETFROM:+0100
TZOFFSETTO:+0200
TZNAME:CEST
END:DAYLIGHT
END:VTIMEZONE
END:VCALENDAR