BEGIN:VCALENDAR
VERSION:2.0
PRODID:-//wp-events-plugin.com//7.2.3.1//EN
TZID:Europe/Berlin
X-WR-TIMEZONE:Europe/Berlin
BEGIN:VEVENT
UID:65957@flohmarkt-termine.org
DTSTART;TZID=Europe/Berlin:20240114T080000
DTEND;TZID=Europe/Berlin:20240114T170000
DTSTAMP:20240109T134900Z
URL:https://www.flohmarkt-termine.org/events/flohmarkt-auf-dem-parkplatz-d
 ehner-in-fuerth-2024-01-14/
SUMMARY:Flohmarkt auf dem Parkplatz Dehner in Fürth
DESCRIPTION:Der Flohmarkt auf dem Parkplatz Dehner in Fürth findet am Son
 ntag von 8:00 bis 17:00 Uhr statt.\n\n[caption id="attachment_202407" alig
 n="alignnone" width="810"] Flohmarkt auf dem Parkplatz Dehner in Fürth[/c
 aption]\nWeitere Flohmarkt Termine in Fürth und Umgebung\nFlohmärkte in 
 Fürth\nInformationen zu dem Flohmarkt auf dem Parkplatz Dehner in Fürth\
 n\n\n\n\n\n\n\n\nDer Flohmarkt auf dem Parkplatz des Dehner Gartencenters 
 in Fürth findet am Sonntag von 8:00 bis 17:00 Uhr statt.\n\nDer Grafflmar
 kt auf dem Dehner-Parkplatz in Fürth ist beliebt bei allen\, die gerne st
 öbern\, feilschen und einzigartige Fundstücke entdecken. Der Flohmarkt i
 n Fürth bietet Einheimischen und Besuchern eine tolle Gelegenheit fränki
 sche Kellerschätze zu finden. Der Flohmarkt auf dem Parkplatz in Fürth i
 st bekannt für sein vielfältiges Angebot an Trödel und Neuwaren. Von an
 tiken Raritäten bis hin zu modernen Schnäppchen findet jeder Besucher et
 was nach seinem Geschmack. Vintage-Mode\, Sammlerstücke\, Bücher\, Schal
 lplatten\, Haushaltswaren und vieles mehr lassen sich hier entdecken.\nMar
 ktbeginn und Reservierung\nDer Markt öffnet ab 8:00 Uhr morgens.\nStandpl
 ätze können telefonisch oder per WhatsApp unter der Nummer 0173 3576877 
 reserviert werden. Die Reservierung sollte bis spätestens Freitag 18 Uhr 
 erfolgen. Alternativ können Interessierte am Sonntagmorgen ab 7 Uhr zum F
 lohmarkt kommen und sich einen Standplatz sichern.\n\nNicht nur für Samml
 er sondern auch für Familien ist der Flohmarkt ein unterhaltsames Erlebni
 s. Die gute Lage in Fürth und die Vielfalt der angebotenen Waren machen d
 en Flohmarkt zu einer beliebten Veranstaltung. Notieren Sie sich den das D
 atum im Kalender und entdecken Sie schöne Flohmarktsachen.\n\n\n\n\n\n\n\
 n\nFlohmarkt Termine 2026\nSonntag\, 14. Januar 2024 von 8:00 bis 17:00 Uh
 r\nSonntag\, 11. Februar 2024 von 8:00 bis 17:00 Uhr\nVeranstalter\nAndrea
 s Bogner\nRoter Berg Weg 29B\n91475 Lonnerstadt\n\n0173 3576877\ninfo@bogn
 er-team.de\nwww.bogners-troedelmaerkte.de
ATTACH;FMTTYPE=image/jpeg:https://www.flohmarkt-termine.org/fotos/Flohmark
 t-Troedel.jpg
CATEGORIES:Flohmarkt
LOCATION:Dehner Fürth\,  Waldstraße 82\, Fürth\, Bayern\, 90763 \, Fürt
 h\, Deutschland
X-APPLE-STRUCTURED-LOCATION;VALUE=URI;X-ADDRESS= Waldstraße 82\, Fürth\, 
 Bayern\, 90763 \, Fürth\, Deutschland;X-APPLE-RADIUS=100;X-TITLE=Dehner F
 ürth:geo:0,0
END:VEVENT
BEGIN:VTIMEZONE
TZID:Europe/Berlin
X-LIC-LOCATION:Europe/Berlin
BEGIN:STANDARD
DTSTART:20231029T020000
TZOFFSETFROM:+0200
TZOFFSETTO:+0100
TZNAME:CET
END:STANDARD
END:VTIMEZONE
END:VCALENDAR