BEGIN:VCALENDAR
VERSION:2.0
PRODID:-//wp-events-plugin.com//7.2.3.1//EN
TZID:Europe/Berlin
X-WR-TIMEZONE:Europe/Berlin
BEGIN:VEVENT
UID:62505@flohmarkt-termine.org
DTSTART;TZID=Europe/Berlin:20230422T090000
DTEND;TZID=Europe/Berlin:20230422T160000
DTSTAMP:20230306T084758Z
URL:https://www.flohmarkt-termine.org/events/flohmarkt-auf-dem-parkplatz-v
 on-kaufland-in-weimar/
SUMMARY:Flohmarkt auf dem Parkplatz von Kaufland in Weimar
DESCRIPTION:Der Flohmarkt auf dem Parkplatz von Kaufland in Weimar findet 
 am Samstag von 9:00 bis 16:00 Uhr statt.\n\n[caption id="attachment_161675
 " align="alignnone" width="810"] Flohmarkt auf dem Parkplatz von Kaufland 
 in Weimar[/caption]\nWeitere Flohmarkt Termine in Weimar und der Umgebung\
 nFlohmärkte in Weimar\nInformationen zu dem Flohmarkt auf dem Parkplatz v
 on Kaufland in Weimar\nDer Flohmarkt auf dem Parkplatz von Kaufland in We
 imar findet am Samstag von 9:00 bis 16:00 Uhr statt.\n\nFlohmarkt auf dem 
 Parkplatz Kaufland in Weimar. Samstag 22.4.23.\nJeder kann mitmachen\, auc
 h als Privatperson und natürlich auch ohne Gewerbeschein. Anmeldung unter
  01743888013 w.app\n\nAuf dem Parkplatz von Kaufland in Weimar findet rege
 lmäßig ein Flohmarkt statt\, der sich großer Beliebtheit erfreut. Hier 
 können Besucher auf der Suche nach Schnäppchen und Raritäten fündig we
 rden. Der Flohmarkt bietet eine bunte Mischung aus verschiedenen Waren\, d
 arunter Kleidung\, Schuhe\, Haushaltswaren\, Bücher\, Spielzeug und viele
 s mehr.\n\nDer Flohmarkt auf dem Kaufland-Parkplatz findet in der Regel am
  Wochenende statt und ist sowohl bei Anbietern als auch bei Besuchern sehr
  beliebt. Hier haben private Verkäufer die Möglichkeit\, ihre nicht mehr
  benötigten Gegenstände zu verkaufen und Platz in ihren Wohnungen und H
 äusern zu schaffen. Interessierte Verkäufer können beim Veranstalter ei
 nen Stand buchen  und ihre Waren anbieten.\n\nFür Besucher bietet der Fl
 ohmarkt eine tolle Gelegenheit\, um nach Schnäppchen und besonderen Funds
 tücken zu suchen. Hier können sie auf der Suche nach Second-Hand-Kleidun
 g\, Vintage-Artikeln oder auch seltenen Sammlerstücken sein. Auch für Fa
 milien mit Kindern ist der Flohmarkt auf dem Kaufland-Parkplatz ein belieb
 tes Ziel\, da hier oft auch Spielzeug und Babyartikel angeboten werden.\n\
 nDer Flohmarkt auf dem Parkplatz von Kaufland in Weimar ist eine tolle Gel
 egenheit für Schnäppchenjäger und Sammler\, um auf Schatzsuche zu gehen
 . Hier können sie in entspannter Atmosphäre stöbern und nach Raritäten
  suchen. Auch für Verkäufer ist der Flohmarkt eine gute Möglichkeit\, u
 m ihre Waren an den Mann oder die Frau zu bringen und Platz in den eigenen
  vier Wänden zu schaffen.\nFlohmarkt Termine 2023\nSamstag\, 22. April 20
 23 von 9:00 bis 16:00 Uhr statt.\nVeranstalter\nVeranstaltungsagentur MB\n
 Marko Bein\nObere Str. 10 d\n08371 Glauchau\n\n0174 3888013\nveranstaltung
 sagenturmb@yahoo.com\nmarko.bein@yahoo.com
ATTACH;FMTTYPE=image/jpeg:https://www.flohmarkt-termine.org/fotos/Flohmark
 t-112.png
CATEGORIES:Antikmarkt,Flohmarkt,Trödel,Trödelmarkt
LOCATION:Weimar\, Himboldstraße 90 \, Weimar \, Thüringen\, 99425\, Weima
 r \, Deutschland
X-APPLE-STRUCTURED-LOCATION;VALUE=URI;X-ADDRESS=Himboldstraße 90 \, Weimar
  \, Thüringen\, 99425\, Weimar \, Deutschland;X-APPLE-RADIUS=100;X-TITLE=
 Weimar:geo:0,0
END:VEVENT
BEGIN:VTIMEZONE
TZID:Europe/Berlin
X-LIC-LOCATION:Europe/Berlin
BEGIN:DAYLIGHT
DTSTART:20230326T030000
TZOFFSETFROM:+0100
TZOFFSETTO:+0200
TZNAME:CEST
END:DAYLIGHT
END:VTIMEZONE
END:VCALENDAR