BEGIN:VCALENDAR
VERSION:2.0
PRODID:-//wp-events-plugin.com//7.2.3.1//EN
TZID:Europe/Berlin
X-WR-TIMEZONE:Europe/Berlin
BEGIN:VEVENT
UID:58890@flohmarkt-termine.org
DTSTART;TZID=Europe/Berlin:20231110T090000
DTEND;TZID=Europe/Berlin:20231110T170000
DTSTAMP:20230112T220320Z
URL:https://www.flohmarkt-termine.org/events/flohmarkt-auf-der-theresienwi
 ese-in-heilbronn-2023-11-10/
SUMMARY:Flohmarkt auf der Theresienwiese in Heilbronn
DESCRIPTION:Der Flohmarkt auf der Theresienwiese in Heilbronn findet am Fre
 itag von 9:00 bis 16:00 Uhr statt.\n\n[caption id="attachment_186627" alig
 n="alignnone" width="810"] Flohmarkt auf der Theresienwiese in Heilbronn[/
 caption]\nWeitere Flohmarkt Termine in Heilbronn und der Umgebung\nFlohmä
 rkte in Heilbronn\nInformationen zu dem Flohmarkt auf der Theresienwiese i
 n Heilbronn\nDer Flohmarkt auf der Theresienwiese in Heilbronn findet am F
 reitag von 9:00 bis 16:00 Uhr statt.\n\nBezahlung vor Ort! Auto kostenlos 
 am Stand! Es gibt genug Platz für alle!\n\n\n\n\nDer Flohmarkt auf der Th
 eresienwiese in Heilbronn ist ein beliebter Treffpunkt für alle\, die auf
  der Suche nach einzigartigen Schnäppchen und Raritäten sind. An Freitag
  mehrmals im Jahr öffnet der Flohmarkt seine Türen für alle Flohmarkt-F
 ans und Sammler.\n\nAuf der Theresienwiese erwartet die Besucher eine gro
 ße Auswahl an Second-Hand-Artikeln\, Vintage-Kleidung\, Sammlerstücken u
 nd vielem mehr. Ob Sie auf der Suche nach einem besonderen Andenken oder e
 infach nur auf der Suche nach einem günstigen Schnäppchen sind\, hier we
 rden Sie fündig.\n\nNeben der großen Auswahl an Produkten bietet der Flo
 hmarkt auf der Theresienwiese in Heilbronn auch eine gemütliche Atmosphä
 re. Es gibt mehrere Essensstände\, an denen man sich stärken kann\, und 
 auch für Kinder wird etwas zu finden sein.\n\nVerpassen Sie nicht die Cha
 nce\, ein Teil dieses einzigartigen Einkaufserlebnisses zu werden. Der Flo
 hmarkt auf der Theresienwiese in Heilbronn findet häufiger im Jahr statt.
  Also\, markieren Sie sich den Termin im Kalender und besuchen Sie den Flo
 hmarkt!\n\n\n\n\nVeranstaltungsort\nTheresienwiese\nTheresienstr. 13\n7407
 2 Heilbronn\nVerkäufer\nEinfach vorbeikommen. Der laufende Meter kostet a
 m Freitag 8\,00 €\n\nAufbau beginnt ab 6:00 Uhr\nFlohmarkt Termine 2023\
 nFreitag\, 17. Februar 2023 von 9:00 bis 16:00 Uhr\nFreitag\, 10. März 20
 23 von 9:00 bis 16:00 Uhr\nFreitag\, 31. März 2023 von 9:00 bis 16:00 Uhr
 \nFreitag\, 14. April 2023 von 9:00 bis 16:00 Uhr\nFreitag\, 5. Mai 2023 v
 on 9:00 bis 16:00 Uhr\nFreitag\, 26. Mai 2023 von 9:00 bis 16:00 Uhr\nFrei
 tag\, 16. Juni 2023 von 9:00 bis 16:00 Uhr\nFreitag\, 28. Juli 2023 von 9:
 00 bis 16:00 Uhr\nFreitag\, 18. August 2023 von 9:00 bis 16:00 Uhr\nFreita
 g\, 1. September 2023 von 9:00 bis 16:00 Uhr\nFreitag\, 20. Oktober 2023 v
 on 9:00 bis 16:00 Uhr\nFreitag\, 10. November 2023 von 9:00 bis 16:00 Uhr\
 nVeranstalter\nGero’s Flohmarkt\nGero Weickmann\nPlanie 16/2\n72764 Reut
 lingen\n\n07121 410047 0\ninfo@geros-flohmarkt.de\nwww.gerosflohmarkt.de
ATTACH;FMTTYPE=image/jpeg:https://www.flohmarkt-termine.org/fotos/Flohmark
 t-007.png
CATEGORIES:Flohmarkt
LOCATION:Theresienwiese Heilbronn\, Theresienstraße\, Heilbronn\, Baden-W
 ürttemberg\, 74072\, Deutschland
X-APPLE-STRUCTURED-LOCATION;VALUE=URI;X-ADDRESS=Theresienstraße\, Heilbron
 n\, Baden-Württemberg\, 74072\, Deutschland;X-APPLE-RADIUS=100;X-TITLE=Th
 eresienwiese Heilbronn:geo:0,0
END:VEVENT
BEGIN:VTIMEZONE
TZID:Europe/Berlin
X-LIC-LOCATION:Europe/Berlin
BEGIN:STANDARD
DTSTART:20231029T020000
TZOFFSETFROM:+0200
TZOFFSETTO:+0100
TZNAME:CET
END:STANDARD
END:VTIMEZONE
END:VCALENDAR