BEGIN:VCALENDAR
VERSION:2.0
PRODID:-//wp-events-plugin.com//7.2.3.1//EN
TZID:Europe/Berlin
X-WR-TIMEZONE:Europe/Berlin
BEGIN:VEVENT
UID:63349@flohmarkt-termine.org
DTSTART;TZID=Europe/Berlin:20230507T100000
DTEND;TZID=Europe/Berlin:20230507T130000
DTSTAMP:20230503T071039Z
URL:https://www.flohmarkt-termine.org/events/flohmarkt-beim-tierheim-in-lu
 ebeck/
SUMMARY:Flohmarkt beim Tierheim in Lübeck
DESCRIPTION:Der Flohmarkt beim Tierheim in Lübeck findet am Sonntag von 1
 0:00 bis 13:00 Uhr statt.\n\n[caption id="attachment_193392" align="alignn
 one" width="810"] Flohmarkt beim Tierheim in Lübeck[/caption]\nWeitere Fl
 ohmarkt Termine in Lübeck und der Umgebung\nFlohmärkte in Lübeck\nInfor
 mationen zu dem Flohmarkt beim Tierheim in Lübeck\nDer Flohmarkt beim Ti
 erheim in Lübeck findet am Sonntag von 10:00 bis 13:00 Uhr statt.\n\nDas 
 Tierheim in Lübeck (Resebergweg 20) veranstaltet am Sonntag 7.5. von 10:0
 0 - 13:00 Uhr einen Flohmarkt.\nKommt vorbei und stöbert durch unser gro
 ßes Sortiment.\nIhr findet unter anderem Haushaltswaren\, Gesellschaftssp
 iele\, Bücher\, Kinderspielzeug\, uvm.\nAußerdem gibt es leckere Waffeln
  und frischen Kaffee.\nAlso kommt gerne vorbei.\nFlohmarkt Termine 2023\nS
 onntag\, 7. Mai 2023 von 10:00 bis 13:00 Uhr\nVeranstalter\nTierschutzvere
 in Lübeck\nResebergweg 20\n23569 Lübeck
ATTACH;FMTTYPE=image/jpeg:https://www.flohmarkt-termine.org/fotos/Flohmark
 t-8256.jpg
CATEGORIES:Babybasar,Babyflohmarkt,Familienflohmarkt,Frühjahrsflohmarkt
LOCATION:Lübeck Kücknitz\, Resebergweg 20 \, Lübeck Kücknitz \, Schlesw
 ig-Holstein\, 23569\, Lübeck\, Deutschland
X-APPLE-STRUCTURED-LOCATION;VALUE=URI;X-ADDRESS=Resebergweg 20 \, Lübeck K
 ücknitz \, Schleswig-Holstein\, 23569\, Lübeck\, Deutschland;X-APPLE-RAD
 IUS=100;X-TITLE=Lübeck Kücknitz:geo:0,0
END:VEVENT
BEGIN:VTIMEZONE
TZID:Europe/Berlin
X-LIC-LOCATION:Europe/Berlin
BEGIN:DAYLIGHT
DTSTART:20230326T030000
TZOFFSETFROM:+0100
TZOFFSETTO:+0200
TZNAME:CEST
END:DAYLIGHT
END:VTIMEZONE
END:VCALENDAR