BEGIN:VCALENDAR
VERSION:2.0
PRODID:-//wp-events-plugin.com//7.2.3.1//EN
TZID:Europe/Berlin
X-WR-TIMEZONE:Europe/Berlin
BEGIN:VEVENT
UID:63111@flohmarkt-termine.org
DTSTART;TZID=Europe/Berlin:20230604T100000
DTEND;TZID=Europe/Berlin:20230604T150000
DTSTAMP:20230417T102443Z
URL:https://www.flohmarkt-termine.org/events/flohmarkt-crepe-und-krempel-i
 n-schorfheide-bei-fionowfurt-in-barnim-2023-06-04/
SUMMARY:Flohmarkt Crêpe und Krempel in Schorfheide bei Fionowfurt in Barni
 m
DESCRIPTION:Der Flohmarkt Crêpe und Krempel in Schorfheide bei Fionowfurt 
 in Barnim findet am Sonntag von 10:00 bis 15:00 Uhr statt.\n\n[caption id=
 "attachment_193387" align="alignnone" width="810"] Flohmarkt Crêpe und Kr
 empel in Schorfheide bei Fionowfurt in Barnim[/caption]\nWeitere Flohmarkt
  Termine in Fionowfurt und der Umgebung\nFlohmärkte in Fionowfurt\nInform
 ationen zu dem Flohmarkt Crêpe und Krempel in Schorfheide bei Fionowfurt 
 in Barnim\nDer Flohmarkt Crêpe und Krempel in Schorfheide bei Fionowfurt 
 in Barnim findet am Sonntag von 10:00 bis 15:00 Uhr statt.\n\nWir sind off
 en für fast Alles auf unserem Markt\, was den Flohmarkt Empfehlungen ents
 pricht und freuen uns über eine Vielfalt bei den Ständen und Besuchern. 
 Bei uns gibt es kleine Kinderangebote\, Essen (Crêpe so´ LECKA) und Trin
 ken. In Mitten vom historischen Schlossgut und der Finowfurter Natur tröd
 eln wir und verbringen den Tag gemeinsam.\n\nSchön wenn Sie uns besuchen\
 , bis bald mal und tolle Zeit bis dahin.\n\nNette Grüße\nFlohmarkt Termi
 ne 2023\nSonntag\, 4. Juni 2023 von 10:00 bis 15:00 Uhr\nSonntag\, 8. Okto
 ber 2023 von 10:00 bis 15:00 Uhr\nVeranstalter\nManu Behmler\n01739759446\
 nt.klammer@hotmail.de
ATTACH;FMTTYPE=image/jpeg:https://www.flohmarkt-termine.org/fotos/Flohmark
 t-11.jpg
CATEGORIES:Flohmarkt
LOCATION:Schorfheide - Fionowfurt Barnim\, Schlossgutsiedlung 1 \, Schorfhe
 ide - Fionowfurt Barnim \, Brandenburg\, 16244\, Barnim\, Deutschland
X-APPLE-STRUCTURED-LOCATION;VALUE=URI;X-ADDRESS=Schlossgutsiedlung 1 \, Sch
 orfheide - Fionowfurt Barnim \, Brandenburg\, 16244\, Barnim\, Deutschland
 ;X-APPLE-RADIUS=100;X-TITLE=Schorfheide - Fionowfurt Barnim:geo:0,0
END:VEVENT
BEGIN:VTIMEZONE
TZID:Europe/Berlin
X-LIC-LOCATION:Europe/Berlin
BEGIN:DAYLIGHT
DTSTART:20230326T030000
TZOFFSETFROM:+0100
TZOFFSETTO:+0200
TZNAME:CEST
END:DAYLIGHT
END:VTIMEZONE
END:VCALENDAR