BEGIN:VCALENDAR
VERSION:2.0
PRODID:-//wp-events-plugin.com//7.2.3.1//EN
TZID:Europe/Berlin
X-WR-TIMEZONE:Europe/Berlin
BEGIN:VEVENT
UID:72403@flohmarkt-termine.org
DTSTART;TZID=Europe/Berlin;VALUE=DATE:20240518
DTEND;TZID=Europe/Berlin;VALUE=DATE:20240519
DTSTAMP:20240308T070952Z
URL:https://www.flohmarkt-termine.org/events/flohmarkt-hinter-dem-bahnhof-
 in-ludwigshafen-2024-05-18/
SUMMARY:Flohmarkt hinter dem Bahnhof in Ludwigshafen
DESCRIPTION:Der Flohmarkt hinter dem Bahnhof in Ludwigshafen findet jeden
  Freitag von 7:00 bis 14:00 Uhr und\njeden Samstag von 9:00 bis 16:00 Uhr 
 statt.\n\n[caption id="attachment_209992" align="alignnone" width="840"] F
 lohmarkt hinter dem Bahnhof in Ludwigshafen[/caption]\nWeitere Flohmarkt T
 ermine in Ludwigshafen und Umgebung\nFlohmärkte in Ludwigshafen\nInformat
 ionen zu dem Flohmarkt hinter dem Bahnhof in Ludwigshafen\nDer Flohmarkt 
 hinter dem Bahnhof in Ludwigshafen findet jeden Freitag von 7:00 bis 14:0
 0 Uhr und\njeden Samstag von 9:00 bis 16:00 Uhr statt.\n\nJeden Freitag un
 d Samstag Flohmarkt in Ludwigshafen hinterm Bahnhof ! In der Richard-Demel
 -Str. auf dem Deutsche Bahn Platz.\nFreitags von 7 bis 14 Uhr\nUnd Samstag
 s von 9 bis 16 Uhr !\n3 Meter 20 Euro.\nJeder ist willkommen !\nFlohmarkt 
 Termine 2026\nJeden Freitag von 7:00 bis 14:00 Uhr\nJeden Samstag von 9:00
  bis 16:00 Uhr\nVeranstalter\nWilma Bohm\n\nRichard-Demel-Str\n67061 Ludwi
 gshafen\nRheinland-Pfalz
ATTACH;FMTTYPE=image/jpeg:https://www.flohmarkt-termine.org/fotos/Flohmark
 t-361.jpg
CATEGORIES:Flohmarkt
LOCATION:Bahnhof in Ludwigshafen\, Richard-Demel-Str.\, Ludwigshafen\, Rhei
 nland-Pfalz\, 67061\, Ludwigshafen\, Deutschland
X-APPLE-STRUCTURED-LOCATION;VALUE=URI;X-ADDRESS=Richard-Demel-Str.\, Ludwig
 shafen\, Rheinland-Pfalz\, 67061\, Ludwigshafen\, Deutschland;X-APPLE-RADI
 US=100;X-TITLE=Bahnhof in Ludwigshafen:geo:0,0
END:VEVENT
BEGIN:VTIMEZONE
TZID:Europe/Berlin
X-LIC-LOCATION:Europe/Berlin
BEGIN:DAYLIGHT
DTSTART:20240331T030000
TZOFFSETFROM:+0100
TZOFFSETTO:+0200
TZNAME:CEST
END:DAYLIGHT
END:VTIMEZONE
END:VCALENDAR