BEGIN:VCALENDAR
VERSION:2.0
PRODID:-//wp-events-plugin.com//7.2.3.1//EN
TZID:Europe/Berlin
X-WR-TIMEZONE:Europe/Berlin
BEGIN:VEVENT
UID:65767@flohmarkt-termine.org
DTSTART;TZID=Europe/Berlin:20240218T110000
DTEND;TZID=Europe/Berlin:20240218T150000
DTSTAMP:20240109T064024Z
URL:https://www.flohmarkt-termine.org/events/flohmarkt-im-dreifaltigkeitsa
 al-in-wiesloch/
SUMMARY:Flohmarkt im Dreifaltigkeitsaal in Wiesloch
DESCRIPTION:Der Flohmarkt im Dreifaltigkeitsaal in Wiesloch findet am Sonn
 tag von 11:00 bis 15:00 Uhr statt.\n\n[caption id="attachment_202425" alig
 n="alignnone" width="810"] Flohmarkt im Dreifaltigkeitsaal in Wiesloch[/ca
 ption]\nWeitere Flohmarkt Termine in Wiesloch und der Umgebung\nFlohmärkt
 e in Wiesloch\nInformationen zu dem Flohmarkt im Dreifaltigkeitsaal in Wie
 sloch\nDer Flohmarkt im Dreifaltigkeitsaal in Wiesloch findet am Sonntag 
 von 11:00 bis 15:00 Uhr statt.\n\nFlohmarkt Wiesloch 18.02.2024\nWillkomme
 n zum Flohmarkt in Wiesloch!\nTauche ein in die Welt der Schnäppchen und 
 Entdeckungen.\nVerkaufe deine aussortierten Artikel oder finde selbst klei
 ne Schätze.\nGenieße außerdem leckere Waffeln die von den Ministranten 
 St. Augustinus frisch zubereitet und verkauft werden.\n\nEintritt: Frei\nD
 atum: 18.02.2024\nUhrzeit: 11:00 - 15:00 Uhr\nOrt: Kurpfalzstraße 22 6916
 8 Wiesloch\nKostenlose Parkplätze vorhanden!\n\nVerkäufer sind herzlich 
 eingeladen sich anzumelden und ihre Stände zu sichern. Schreibe uns einfa
 ch unter flohmarkt-wiesloch@web.de !\n\nKomm vorbei stöbere und genieße 
 eine entspannte Zeit auf unserem Flohmarkt.\nWir freuen uns auf deinen Bes
 uch!\nFlohmarkt Termine 2026\nSonntag\, 18. Februar 2024 von 11:00 bis 15:
 00 Uhr\nVeranstalter\nflohmarkt-wiesloch@web.de
ATTACH;FMTTYPE=image/jpeg:https://www.flohmarkt-termine.org/fotos/Flohmark
 t-051.jpg
CATEGORIES:Fashion-Flohmarkt,Flohmarkt,Frauenflohmarkt,Frauenklamottenfloh
 markt,Modeflohmarkt
LOCATION:Wiesloch\, Kurpfalzstraße 22\, Wiesloch\, Baden-Württemberg\, 69
 168\, Rhein-Neckar-Kreis\, Deutschland
X-APPLE-STRUCTURED-LOCATION;VALUE=URI;X-ADDRESS=Kurpfalzstraße 22\, Wieslo
 ch\, Baden-Württemberg\, 69168\, Rhein-Neckar-Kreis\, Deutschland;X-APPLE
 -RADIUS=100;X-TITLE=Wiesloch:geo:0,0
END:VEVENT
BEGIN:VTIMEZONE
TZID:Europe/Berlin
X-LIC-LOCATION:Europe/Berlin
BEGIN:STANDARD
DTSTART:20231029T020000
TZOFFSETFROM:+0200
TZOFFSETTO:+0100
TZNAME:CET
END:STANDARD
END:VTIMEZONE
END:VCALENDAR