BEGIN:VCALENDAR
VERSION:2.0
PRODID:-//wp-events-plugin.com//7.2.3.1//EN
TZID:Europe/Berlin
X-WR-TIMEZONE:Europe/Berlin
BEGIN:VEVENT
UID:68674@flohmarkt-termine.org
DTSTART;TZID=Europe/Berlin:20240707T100000
DTEND;TZID=Europe/Berlin:20240707T160000
DTSTAMP:20240208T095153Z
URL:https://www.flohmarkt-termine.org/events/flohmarkt-im-ostsee-park-in-r
 ostock-sievershagen-2024-07-07/
SUMMARY:Flohmarkt im Ostsee-Park in Rostock Sievershagen
DESCRIPTION:Der Flohmarkt im Ostsee-Park in Rostock Sievershagen findet am
  Sonntag von 10:00 bis 16:00 Uhr statt.\n\n[caption id="attachment_196458"
  align="alignnone" width="810"] Flohmarkt im Ostsee-Park in Rostock Siever
 shagen[/caption]\nWeitere Flohmarkt Termine in Rostock und Umgebung\nFlohm
 ärkte in Rostock \nInformationen zu dem Flohmarkt im Ostsee-Park in Rosto
 ck Sievershagen\nDer Flohmarkt im Ostsee-Park in Rostock Sievershagen fin
 det am Sonntag von 10:00 bis 16:00 Uhr statt.\n\nDer Trödelmarkt in Rosto
 ck\, zählt seit 1996 zu den größten seiner Art. Jedes Jahr öffnet dies
 er Marktplatz mehrmals an Sonntagen von 10:00 bis 16:00 Uhr seine Pforten 
 für Schnäppchenjäger und Trödelliebhaber. Hier verwandelt das Flohmaxx
 -Team das Gelände regelmäßig in eine beeindruckende Schnäppchenmeile\,
  die sowohl Händler als auch Besucher aus der ganzen Region anlockt. Das 
 Angebot reicht von Antiquitäten über Kleidung bis hin zu Spielzeug und B
 üchern\, was den Flohmarkt im Ostsee-Park zu einem beliebten Ziel für di
 e ganze Familie macht.\n\nDie Atmosphäre auf dem Flohmarkt ist lebendig u
 nd einzigartig. Viele Stände bieten eine große Auswahl\, die Besucher zu
 m Stöbern und Entdecken einlädt. Ein Familienausflug hierher verspricht 
 Spaß und Freude für Jung und Alt. Zusätzlich sorgen diverse Gastronomie
 -Stände mit einem vielfältigen Angebot dafür\, dass auch das leibliche 
 Wohl nicht zu kurz kommt. Von herzhaften Speisen bis zu süßen Leckereien
  ist für jeden Geschmack etwas dabei\, was den Tag am Flohmarkt abrundet.
 \n\nDie Lage des Ostsee-Parks in Sievershagen ist nicht nur zentral\, sond
 ern auch verkehrsgünstig gelegen und bietet ausreichend kostenfreie Parkp
 lätze. Diese gute Erreichbarkeit macht den Flohmarkt in Rostock zu einem 
 attraktiven Ziel für einen Tagesausflug. Ob als Käufer oder Verkäufer\,
  der Flohmarkt im Ostsee-Park bietet eine ausgezeichnete Gelegenheit\, bes
 ondere Funde zu machen\, zu verkaufen oder einfach einen angenehmen Tag in
  geselliger Runde zu verbringen.\nFlohmarkt Termine 2026\nSonntag\, 3. Mä
 rz 2024 von 10:00 bis 16:00 Uhr\nSonntag\, 7. April 2024 von 10:00 bis 16:
 00 Uhr\nSonntag\, 21. April 2024 von 10:00 bis 16:00 Uhr\nSonntag\, 5. Mai
  2024 von 10:00 bis 16:00 Uhr\nSonntag\, 2. Juni 2024 von 10:00 bis 16:00 
 Uhr\nSonntag\, 7. Juli 2024 von 10:00 bis 16:00 Uhr\nSonntag\, 4. August 2
 024 von 10:00 bis 16:00 Uhr\nSonntag\, 1. September 2024 von 10:00 bis 16:
 00 Uhr\nSonntag\, 22. September 2024 von 10:00 bis 16:00 Uhr\nSonntag\, 13
 . Oktober 2024 von 10:00 bis 16:00 Uhr\nSonntag\, 27. Oktober 2024 von 10:
 00 bis 16:00 Uhr\nSonntag\, 3. November 2024 von 10:00 bis 16:00 Uhr\nSonn
 tag\, 15. Dezember 2024 von 10:00 bis 16:00 Uhr\nVeranstalter\nMarktverans
 taltung Janssen GmbH\nJürgen Janssen\nTannenkrugstraße 36\n26180 Rastede
 \n\n044 02 863 840\ninfo@flohmaxx.de\nwww.flohmaxx.de
ATTACH;FMTTYPE=image/jpeg:https://www.flohmarkt-termine.org/fotos/Flohmark
 t-345.jpg
CATEGORIES:Flohmarkt
LOCATION:Ostsee-Park in Rostock Sievershagen\, Ostsee-Park-Straße 3 \, Ros
 tock Sievershagen\, Mecklenburg-Vorpommern\, 18069 \, Rostock \, Deutschla
 nd
X-APPLE-STRUCTURED-LOCATION;VALUE=URI;X-ADDRESS=Ostsee-Park-Straße 3 \, Ro
 stock Sievershagen\, Mecklenburg-Vorpommern\, 18069 \, Rostock \, Deutschl
 and;X-APPLE-RADIUS=100;X-TITLE=Ostsee-Park in Rostock Sievershagen:geo:0,0
END:VEVENT
BEGIN:VTIMEZONE
TZID:Europe/Berlin
X-LIC-LOCATION:Europe/Berlin
BEGIN:DAYLIGHT
DTSTART:20240331T030000
TZOFFSETFROM:+0100
TZOFFSETTO:+0200
TZNAME:CEST
END:DAYLIGHT
END:VTIMEZONE
END:VCALENDAR