BEGIN:VCALENDAR
VERSION:2.0
PRODID:-//wp-events-plugin.com//7.2.3.1//EN
TZID:Europe/Berlin
X-WR-TIMEZONE:Europe/Berlin
BEGIN:VEVENT
UID:16099@flohmarkt-termine.org
DTSTART;TZID=Europe/Berlin:20280623T100000
DTEND;TZID=Europe/Berlin:20280623T160000
DTSTAMP:20220419T055247Z
URL:https://www.flohmarkt-termine.org/events/flohmarkt-im-schloss-almoshof
 -nuernberg-2028-06-23/
SUMMARY:Flohmarkt im Schloss Almoshof Nürnberg
DESCRIPTION:Der Flohmarkt im Schloss Almoshof mit Kunstcafé in Nürnberg f
 indet von 10:00 bis 16:00 Uhr statt.\n\n[caption id="attachment_123143" al
 ign="alignnone" width="810"] Flohmarkt im Schloss Almoshof Nürnberg[/capt
 ion]\nWeitere Flohmarkt Termine in Nürnberg und Umgebung\nFlohmärkte in 
 Nürnberg\nInformationen zu dem Flohmarkt im Schloss Almoshof Nürnberg\nD
 er Flohmarkt im Schloss Almoshof mit Kunstcafé in Nürnberg findet von 10
 :00 bis 16:00 Uhr statt. Im Kunstcafé gibt es Kuchen und Kaffee.\n\nEintr
 ittspreis\n10\,00 Euro\nFlohmarkt Termine 2022 Nürnberg Schloss Almoshof\
 n&nbsp\;\nVeranstalter\nKulturladen Schloss Almoshof\nAlmoshofer Hauptstra
 ße 49-53\n90427 Nürnberg\n\n0911 23111405\nwww.nuernberg.de/internet/kuf
 _kultur/almoshof_schlossflohmarkt.html
ATTACH;FMTTYPE=image/jpeg:https://www.flohmarkt-termine.org/fotos/Flohmark
 t-6.jpg
CATEGORIES:Flohmarkt,Trödelmarkt
LOCATION:Kulturladen Schloss Almoshof Nürnberg\, Almoshofer Hauptstr. 51\,
  Nürnberg\, Bayern\, 90427\, Deutschland
GEO:49.48876;11.064880000000016
X-APPLE-STRUCTURED-LOCATION;VALUE=URI;X-ADDRESS=Almoshofer Hauptstr. 51\, N
 ürnberg\, Bayern\, 90427\, Deutschland;X-APPLE-RADIUS=100;X-TITLE=Kulturl
 aden Schloss Almoshof Nürnberg:geo:49.48876,11.064880000000016
END:VEVENT
BEGIN:VTIMEZONE
TZID:Europe/Berlin
X-LIC-LOCATION:Europe/Berlin
BEGIN:DAYLIGHT
DTSTART:20280326T030000
TZOFFSETFROM:+0100
TZOFFSETTO:+0200
TZNAME:CEST
END:DAYLIGHT
END:VTIMEZONE
END:VCALENDAR