BEGIN:VCALENDAR
VERSION:2.0
PRODID:-//wp-events-plugin.com//7.2.3.1//EN
TZID:Europe/Berlin
X-WR-TIMEZONE:Europe/Berlin
BEGIN:VEVENT
UID:64782@flohmarkt-termine.org
DTSTART;TZID=Europe/Berlin:20240317T080000
DTEND;TZID=Europe/Berlin:20240317T140000
DTSTAMP:20240306T193841Z
URL:https://www.flohmarkt-termine.org/events/flohmarkt-im-strandsalon-in-l
 uebeck/
SUMMARY:Flohmarkt im Strandsalon in Lübeck
DESCRIPTION:Der Flohmarkt im Strandsalon in Lübeck findet am Sonntag von 
 8:00 bis 14:00 Uhr statt.\n\n[caption id="attachment_196458" align="alignn
 one" width="810"] Flohmarkt im Strandsalon in Lübeck[/caption]\nWeitere F
 lohmarkt Termine in Lübeck und der Umgebung\nFlohmärkte in Lübeck\nInfo
 rmationen zu dem Flohmarkt im Strandsalon in Lübeck\nDer Flohmarkt im St
 randsalon in Lübeck findet am Sonntag von 8:00 bis 16:00 Uhr statt.\n\nIn
 door pro Meter 10\,- Euro und Outdoor 7\,- Euro\n\nZu allen Terminen keine
  Neuware.\n\nAnfragen zur Standreservierung bitte an: event@strandsalon.de
 \nVeranstaltungsort\nStrandsalon\nDer Lübecker Beach Club\nWilly-Brandt-A
 llee 25a\n23554 Lübeck\nFlohmarkt Termine 2026\nSonntag\, 17. März 2024 
 von 8:00 bis 14:00 Uhr\nSonntag\, 21. April 2024 von 8:00 bis 14:00 Uhr\nS
 onntag\, 19. Mai 2024 von 15:00 bis 21:00 Uhr Special ein Abendflohmarkt z
 u Pfingstsonntag\nVeranstalter\nStrandsalon\nDer Lübecker Beach Club\nWil
 ly-Brandt-Allee 25a\n23554 Lübeck\n\n015750360047\nalex@strandsalon-luebe
 ck.de\nwww.strandsalon-luebeck.de
ATTACH;FMTTYPE=image/jpeg:https://www.flohmarkt-termine.org/fotos/Flohmark
 t-00678.jpg
CATEGORIES:Flohmarkt
LOCATION:Strandsalon in Lübeck\, Willy-Brandt-Allee 25a \, Lübeck\, Schle
 swig-Holstein\, 23554 \, Lübeck\, Deutschland
X-APPLE-STRUCTURED-LOCATION;VALUE=URI;X-ADDRESS=Willy-Brandt-Allee 25a \, L
 übeck\, Schleswig-Holstein\, 23554 \, Lübeck\, Deutschland;X-APPLE-RADIU
 S=100;X-TITLE=Strandsalon in Lübeck:geo:0,0
END:VEVENT
BEGIN:VTIMEZONE
TZID:Europe/Berlin
X-LIC-LOCATION:Europe/Berlin
BEGIN:STANDARD
DTSTART:20231029T020000
TZOFFSETFROM:+0200
TZOFFSETTO:+0100
TZNAME:CET
END:STANDARD
END:VTIMEZONE
END:VCALENDAR