BEGIN:VCALENDAR
VERSION:2.0
PRODID:-//wp-events-plugin.com//7.2.3.1//EN
TZID:Europe/Berlin
X-WR-TIMEZONE:Europe/Berlin
BEGIN:VEVENT
UID:35170@flohmarkt-termine.org
DTSTART;TZID=Europe/Berlin;VALUE=DATE:20280510
DTEND;TZID=Europe/Berlin;VALUE=DATE:20280511
DTSTAMP:20211116T124351Z
URL:https://www.flohmarkt-termine.org/events/flohmarkt-in-braunschweig-auf
 -dem-ikea-gelaende-in-der-hansestrasse-2028-05-10/
SUMMARY:Flohmarkt in Braunschweig auf dem IKEA-Gelände in der Hansestraße
DESCRIPTION:Der Flohmarkt auf dem IKEA-Gelände in der Hansestraße in Brau
 nschweig findet im Mai\, Juni und September statt.\n\n[caption id="attachm
 ent_135064" align="alignnone" width="810"] Flohmarkt in Braunschweig auf d
 em IKEA-Gelände in der Hansestraße[/caption]\nFlohmarkt Termine 2021\nAn
 fahrt\nParkplätze stehen auf dem Porta- und Globus-Gelände ausreichend z
 ur Verfügung\nVeranstalter\nM.O.V.E. GbR\, F. Henkel\, J. Rosenberg\nHein
 rich-Heine-Str. 27\n38440 Wolfsburg\n\nTel.:  05361 22727
ATTACH;FMTTYPE=image/jpeg:https://www.flohmarkt-termine.org/fotos/Flohmark
 t-7.jpg
CATEGORIES:Flohmarkt,Trempelmarkt,Trödelmarkt
LOCATION:IKEA-Gelände Hansestraße in Braunschweig\, Hansestraße 27\, Bra
 unschweig\, Niedersachsen\, 38112\, Deutschland
GEO:52.309034;10.504559
X-APPLE-STRUCTURED-LOCATION;VALUE=URI;X-ADDRESS=Hansestraße 27\, Braunschw
 eig\, Niedersachsen\, 38112\, Deutschland;X-APPLE-RADIUS=100;X-TITLE=IKEA-
 Gelände Hansestraße in Braunschweig:geo:52.309034,10.504559
END:VEVENT
BEGIN:VTIMEZONE
TZID:Europe/Berlin
X-LIC-LOCATION:Europe/Berlin
BEGIN:DAYLIGHT
DTSTART:20280326T030000
TZOFFSETFROM:+0100
TZOFFSETTO:+0200
TZNAME:CEST
END:DAYLIGHT
END:VTIMEZONE
END:VCALENDAR