BEGIN:VCALENDAR
VERSION:2.0
PRODID:-//wp-events-plugin.com//7.2.3.1//EN
TZID:Europe/Berlin
X-WR-TIMEZONE:Europe/Berlin
BEGIN:VEVENT
UID:53167@flohmarkt-termine.org
DTSTART;TZID=Europe/Berlin:20270130T100000
DTEND;TZID=Europe/Berlin:20270130T130000
DTSTAMP:20220118T102722Z
URL:https://www.flohmarkt-termine.org/events/flohmarkt-in-der-burger-stadt
 halle-2027-01-30/
SUMMARY:Flohmarkt in der Burger Stadthalle
DESCRIPTION:Der Flohmarkt in der Burger Stadthalle findet am Sonntag von 10
 :00 bis 13:00 Uhr statt.\n\n[caption id="attachment_161669" align="alignno
 ne" width="810"] Flohmarkt in der Burger Stadthalle[/caption]\nWeitere Flo
 hmarkt Termine in Burg und der Umgebung\nFlohmärkte in Burg\nInformatione
 n zu dem Flohmarkt in der Burger Stadthalle\nDer Flohmarkt in der Burger S
 tadthalle findet am Sonntag von 10:00 bis 13:00 Uhr statt. Der Eintritt is
 t frei. Einlass für Besucher ab 10:00 Uhr.\n\nVeranstaltungsort\nStadthal
 le Burg\nPlatz des Friedens 1\n39288 Burg\n\nVerkäufer\nAufbau der Händl
 er ab 08:00 Uhr\nHändler: 8\,00 € je Tisch (150 x 75 cm)\nTickets im VV
 K -  Tourist-Information Burg\, Bahnhofstraße 10\, 39288 Burg\n\nFlohmar
 kt Termine 2022\n30.01.2022\nVeranstalter\n\n\nStadt Burg\nIn der Alten Ka
 serne 2\n39288 Burg\n\n\n\n\n03921 921-0\nburg@stadt-burg.de\nwww.stadtbur
 g.info\n\n
ATTACH;FMTTYPE=image/jpeg:https://www.flohmarkt-termine.org/fotos/Flohmark
 t-2022.jpg
CATEGORIES:Flohmarkt
LOCATION:Stadthalle in Burg\, Platz des Friedens 1\, Burg\, Sachsen-Anhalt\
 , 39288\, Deutschland
X-APPLE-STRUCTURED-LOCATION;VALUE=URI;X-ADDRESS=Platz des Friedens 1\, Burg
 \, Sachsen-Anhalt\, 39288\, Deutschland;X-APPLE-RADIUS=100;X-TITLE=Stadtha
 lle in Burg:geo:0,0
END:VEVENT
BEGIN:VTIMEZONE
TZID:Europe/Berlin
X-LIC-LOCATION:Europe/Berlin
BEGIN:STANDARD
DTSTART:20261025T020000
TZOFFSETFROM:+0200
TZOFFSETTO:+0100
TZNAME:CET
END:STANDARD
END:VTIMEZONE
END:VCALENDAR