BEGIN:VCALENDAR
VERSION:2.0
PRODID:-//wp-events-plugin.com//7.2.3.1//EN
TZID:Europe/Berlin
X-WR-TIMEZONE:Europe/Berlin
BEGIN:VEVENT
UID:64215@flohmarkt-termine.org
DTSTART;TZID=Europe/Berlin:20230915T090000
DTEND;TZID=Europe/Berlin:20230917T160000
DTSTAMP:20230913T072941Z
URL:https://www.flohmarkt-termine.org/events/flohmarkt-in-zinnowitz-auf-de
 r-insel-usedom/
SUMMARY:Flohmarkt in Zinnowitz auf der Insel Usedom
DESCRIPTION:Der Flohmarkt in Zinnowitz auf der Insel Usedom findet jeden F
 reitag\, Samstag und Sonntag von 9:00 bis 16:00 Uhr statt.\n\n\n[caption i
 d="attachment_196406" align="alignnone" width="810"] Flohmarkt in Zinnowit
 z auf der Insel Usedom[/caption]\nWeitere Flohmarkt Termine in Zinnowitz u
 nd Umgebung\nTrödelmarkte in Zinnowitz \nInformationen zu dem Flohmarkt i
 n Zinnowitz auf der Insel Usedom\nDer Flohmarkt in Zinnowitz auf der Inse
 l Usedom findet jeden Freitag\, Samstag und Sonntag von 9:00 bis 16:00 Uhr
  statt.\n\n\n\n\nFlohmarkt Zinnowitz\nauf der schönen Sonnen Insel Usedom
 \n\nJeden Freitag Samstag Sonntag auf einer Wiese.. An der Ahlbecker Stra
 ße B111 Ecke Peenestrase.\nIst direkt zu sehen von der Haupt Straße aus.
 \n\nAusreichend Parkplätze an der Seitenstraße Peene Straße und auf der
  Wiese im hinteren Bereich...\nNatürlich kostenlos\n\nBis Ende Oktober we
 nn es das Wetter zulässt findet der Markt statt\n\nUnd es ist garantiert 
 für jeden was dabei...\nOb Antikes ..Sammler Objekte... Altes . Deko... M
 aritimes... Haushaltsgegenstände.. Spielzeug... Bücher.. Klein Möbel...
 .\n\nWas es nicht gibt sind neu Textilen..\nWir möchten ein Trödelmarkt 
 bleiben und keine Neuware anbieten\n\nAuch kulinarisch wird für unsere G
 äste gesorgt..\n\nVon 9.00 Uhr an kann nach Schätzen gesucht werden\n\nH
 ier ist nicht Sofa sitzen und schreiben auf dem Handy oder kaufen im Inter
 net angesagt\nsondern spazieren gehen und kommunizieren\nob alleine oder m
 it der ganzen Familie..\n\n\n\n\nFlohmarkt Termine 2023\nFreitag\, 15. Sep
 tember 2023 von 9:00 bis 16:00 Uhr\nSamstag\, 16. September 2023 von 9:00 
 bis 16:00 Uhr\nSonntag\, 17. September 2023 von 9:00 bis 16:00 Uhr\nFreita
 g\, 22. September 2023 von 9:00 bis 16:00 Uhr\nSamstag\, 23. September 202
 3 von 9:00 bis 16:00 Uhr\nSamstag\, 23. September 2023 von 9:00 bis 16:00 
 Uhr\nFreitag\, 29. September 2023 von 9:00 bis 16:00 Uhr\nSamstag\, 30. Se
 ptember 2023 von 9:00 bis 16:00 Uhr\nSonntag\, 1. Oktober 2023 von 9:00 bi
 s 16:00 Uhr\nMontag\, 2. Oktober 2023 von 9:00 bis 16:00 Uhr\nDienstag\, 3
 . Oktober 2023 von 9:00 bis 16:00 Uhr\nFreitag\, 6. Oktober 2023 von 9:00 
 bis 16:00 Uhr\nSamstag\, 7. Oktober 2023 von 9:00 bis 16:00 Uhr\nSonntag\,
  8. Oktober 2023 von 9:00 bis 16:00 Uhr\nVeranstalter\nflohmarkt.zinnowitz
 @gmail.com
ATTACH;FMTTYPE=image/jpeg:https://www.flohmarkt-termine.org/fotos/Flohmark
 t-00680.jpg
CATEGORIES:Familienflohmarkt,Familientrödelmarkt,Flohmarkt
LOCATION:Zinnowitz\, Ahlbeckerstraße \, Zinnowitz\, Mecklenburg-Vorpommern
 \, 17454\, Ostsee \, Deutschland
X-APPLE-STRUCTURED-LOCATION;VALUE=URI;X-ADDRESS=Ahlbeckerstraße \, Zinnowi
 tz\, Mecklenburg-Vorpommern\, 17454\, Ostsee \, Deutschland;X-APPLE-RADIUS
 =100;X-TITLE=Zinnowitz:geo:0,0
END:VEVENT
BEGIN:VTIMEZONE
TZID:Europe/Berlin
X-LIC-LOCATION:Europe/Berlin
BEGIN:DAYLIGHT
DTSTART:20230326T030000
TZOFFSETFROM:+0100
TZOFFSETTO:+0200
TZNAME:CEST
END:DAYLIGHT
END:VTIMEZONE
END:VCALENDAR