BEGIN:VCALENDAR
VERSION:2.0
PRODID:-//wp-events-plugin.com//7.2.3.1//EN
TZID:Europe/Berlin
X-WR-TIMEZONE:Europe/Berlin
BEGIN:VEVENT
UID:68451@flohmarkt-termine.org
DTSTART;TZID=Europe/Berlin:20240608T090000
DTEND;TZID=Europe/Berlin:20240608T160000
DTSTAMP:20240206T162039Z
URL:https://www.flohmarkt-termine.org/events/flohmarkt-platz-am-feuersee-i
 n-stuttgart-west-2024-06-08/
SUMMARY:Flohmarkt am Platz am Feuersee in Stuttgart-West
DESCRIPTION:Der Flohmarkt Platz auf dem Gelände am Platz am Feuersee in St
 uttgart-West findet am Samstag von 9:00 bis 16:00 Uhr statt.\n\n[caption i
 d="attachment_193389" align="alignnone" width="810"] Flohmarkt am Platz am
  Feuersee in Stuttgart-West[/caption]\nWeitere Flohmarkt Termine in Stuttg
 art und Umgebung\nFlohmärkte in Stuttgart\nInformationen zu dem Flohmarkt
  Platz am Feuersee in Stuttgart-West\nDer Flohmarkt am Platz am Feuersee i
 n Stuttgart-West findet am Samstag von 9:00 bis 16:00 Uhr auf dem Gelände
  Platz am Feuersee statt.\n\nDer Flohmarkt am Platz am Feuersee in Stuttga
 rt-West bietet eine einzigartige Gelegenheit für Liebhaber von Trödel un
 d Antiquitäten. Mehrmals im Jahr verwandelt sich der Platz am Feuersee vo
 n 9:00 bis 16:00 Uhr in ein Paradies für alle\, die auf der Suche nach be
 sonderen Fundstücken sind. Besucher können in einer vielfältigen Auswah
 l stöbern\, die von Vintage-Kleidung über Antiquitäten bis hin zu Kunst
 handwerk reicht. Der Markt ist bekannt für seine gemütliche Atmosphäre 
 und die Qualität der angebotenen Waren\, die alle eines gemeinsam haben: 
 Es ist keine Neuware zugelassen\, was den Charme und die Authentizität de
 s Flohmarkts unterstreicht.\n\nFür Aussteller beginnt der Tag früh\, den
 n der Aufbau der Stände ist von 7:00 bis 8:30 Uhr gestattet. Dies gibt H
 ändlern ausreichend Zeit\, ihre Schätze ansprechend zu präsentieren. Ei
 n Frontmeter Standfläche kostet 15 EUR\, was eine faire Gebühr für die 
 Möglichkeit darstellt\, Teil dieser beliebten Veranstaltung zu sein. Wich
 tig ist\, dass eine Reservierung und Vorkasse erforderlich sind\, um einen
  reibungslosen Ablauf zu gewährleisten. Zudem müssen Aussteller ihre eig
 enen Tische und Stühle mitbringen\, was eine individuelle Gestaltung des 
 Standes ermöglicht.\n\nDer Besuch des Flohmarkts am Platz am Feuersee in 
 Stuttgart-West ist ein Muss für jeden\, der das Flair von Märkten liebt 
 und nach einzigartigen Gegenständen sucht. Die Regel\, dass keine Neuware
  angeboten werden darf\, fördert ein authentisches Markterlebnis und gara
 ntiert\, dass jeder Besuch etwas Besonderes ist. Egal\, ob man auf der Suc
 he nach einem neuen Schmuckstück für die eigene Sammlung ist oder einfac
 h nur das bunte Treiben genießen möchte\, der Flohmarkt am Feuersee biet
 et für jeden Geschmack etwas.\n\nDer Trödelmarkt am Platz am Feuersee is
 t gut erreichbar und bietet ausreichend Parkmöglichkeiten in der näheren
  Umgebung. Hier gibt es eine große Auswahl an Kleidung\, Büchern\, Schal
 lplatten\, Antiquitäten und vielem mehr. Der Platz am Feuersee ist ein sc
 höner Park mitten in Stuttgart-West und bietet eine tolle Atmosphäre. Hi
 er kann man entspannt nach besonderen Schätzen suchen. Der Flohmarkt am P
 latz am Feuersee in Stuttgart-West ist ein tolles Ausflugsziel für den Sa
 mstag. Ein Besuch auf dem Flohmarkt am Platz am Feuersee lohnt sich immer.
 \nFlohmarkt Termine 2026\n\nSamstag\, 16. März 2024 von 9:00 bis 16:00 Uh
 r\nSamstag\, 13. April 2024 von 9:00 bis 16:00 Uhr\nSamstag\, 11. Mai 2024
  von 9:00 bis 16:00 Uhr\nSamstag\, 8. Juni 2024 von 9:00 bis 16:00 Uhr\nSa
 mstag\, 13. Juli 2024 von 9:00 bis 16:00 Uhr\nSamstag\, 17. August 2024 vo
 n 9:00 bis 16:00 Uhr\nSamstag\, 7. September 2024 von 9:00 bis 16:00 Uhr\n
 Samstag\, 5. Oktober 2024 von 9:00 bis 16:00 Uhr\nSamstag\, 2. November 20
 24 von 9:00 bis 16:00 Uhr\nVeranstalter\nAgentur Walter\nMichael Walter\nH
 äldenstraße 1\n74172 Neckarsulm-Obereisesheim\n\n07132 15 78 53\ninfo@ag
 enturwalter.com\nwww.agenturwalter.com
ATTACH;FMTTYPE=image/jpeg:https://www.flohmarkt-termine.org/fotos/Flohmark
 t-11.jpg
CATEGORIES:Flohmarkt,Trödelmarkt
LOCATION:Platz am Feuersee Stuttgart-West\, Gutenbergstraße 20\, Stuttgart
 -West\, Baden-Württemberg\, 70176\, Deutschland
GEO:48.7738884;9.16466349999996
X-APPLE-STRUCTURED-LOCATION;VALUE=URI;X-ADDRESS=Gutenbergstraße 20\, Stutt
 gart-West\, Baden-Württemberg\, 70176\, Deutschland;X-APPLE-RADIUS=100;X-
 TITLE=Platz am Feuersee Stuttgart-West:geo:48.7738884,9.16466349999996
END:VEVENT
BEGIN:VTIMEZONE
TZID:Europe/Berlin
X-LIC-LOCATION:Europe/Berlin
BEGIN:DAYLIGHT
DTSTART:20240331T030000
TZOFFSETFROM:+0100
TZOFFSETTO:+0200
TZNAME:CEST
END:DAYLIGHT
END:VTIMEZONE
END:VCALENDAR