BEGIN:VCALENDAR
VERSION:2.0
PRODID:-//wp-events-plugin.com//7.2.3.1//EN
TZID:Europe/Berlin
X-WR-TIMEZONE:Europe/Berlin
BEGIN:VEVENT
UID:74995@flohmarkt-termine.org
DTSTART;TZID=Europe/Berlin:20260508T100000
DTEND;TZID=Europe/Berlin:20260510T180000
DTSTAMP:20260417T085014Z
URL:https://www.flohmarkt-termine.org/events/flohmarkt-und-tag-der-offenen
 -tuer-2026-2/
SUMMARY:Flohmarkt und Tag der offenen Tür 2026
DESCRIPTION:\nFlohmarktFr 8. Mai - Sa 9. Mai 2026\, jeweils 10 - 18 UhrSo
  10. Mai 2026\, 10 - 16 Uhr\nTag der offenen TürSa 9. Mai 2026\, 10 -
  18 Uhr\nInternationales Waldkunst Zentrum\nProgramm Freitag\, 8. Mai 20
 26\n\n10 - 18 Uhr Flohmarkt\n14 - 18 Uhr Gartencafé\n\nProgramm Samst
 ag\, 9. Mai 2026 – Tag der offenen Tür\n\n10 - 18 Uhr Flohmarkt\n14 
 - 18 Uhr Gartencafé\n10 - 18 Uhr Infostand UNESCO Global Geopark Bergs
 traße-Odenwald\n10 - 18 Uhr Infostand Verein für Internationale Waldku
 nst e.V.\n\nProgramm Sonntag\, 10. Mai 2026\n\n10 - 16 Uhr Flohmarkt\n14
  - 16 Uhr Gartencafé\n\nAuf dem Gelände gibt es ca. 25 Kunstwerke zu s
 ehen.\n
CATEGORIES:Flohmarkt
LOCATION:Internationales Waldkunst Zentrum\, Ludwigshöhstr. 137\, Darmstad
 t\, 64285\, Deutschland
X-APPLE-STRUCTURED-LOCATION;VALUE=URI;X-ADDRESS=Ludwigshöhstr. 137\, Darms
 tadt\, 64285\, Deutschland;X-APPLE-RADIUS=100;X-TITLE=Internationales Wald
 kunst Zentrum:geo:0,0
END:VEVENT
BEGIN:VTIMEZONE
TZID:Europe/Berlin
X-LIC-LOCATION:Europe/Berlin
BEGIN:DAYLIGHT
DTSTART:20260329T030000
TZOFFSETFROM:+0100
TZOFFSETTO:+0200
TZNAME:CEST
END:DAYLIGHT
END:VTIMEZONE
END:VCALENDAR