BEGIN:VCALENDAR
VERSION:2.0
PRODID:-//wp-events-plugin.com//7.2.3.1//EN
TZID:Europe/Berlin
X-WR-TIMEZONE:Europe/Berlin
BEGIN:VEVENT
UID:63756@flohmarkt-termine.org
DTSTART;TZID=Europe/Berlin:20230624T100000
DTEND;TZID=Europe/Berlin:20230624T160000
DTSTAMP:20230620T070300Z
URL:https://www.flohmarkt-termine.org/events/flohmarkt-wegen-geschaeftsauf
 gabe-in-bissingen-an-der-teck/
SUMMARY:Flohmarkt wegen Geschäftsaufgabe in Bissingen an der Teck
DESCRIPTION:Der Flohmarkt wegen Geschäftsaufgabe in Bissingen an der Teck
  findet am Samstag von 10:00 bis 16:00 Uhr statt.\n\n[caption id="attachme
 nt_195324" align="alignnone" width="810"] Flohmarkt wegen Geschäftsaufgab
 e in Bissingen an der Teck[/caption]\nWeitere Flohmarkt Termine in Bissing
 en an der Teck und der Umgebung\nFlohmärkte in Bissingen an der Teck\n\nI
 nformationen zu dem Flohmarkt wegen Geschäftsaufgabe in Bissingen an der 
 Teck\nDer Flohmarkt wegen Geschäftsaufgabe in Bissingen an der Teck find
 et am Samstag von 10:00 bis 16:00 Uhr statt.\n\nFlohmarkt wegen Geschäfts
 aufgabe. Werkzeuge (Metallbearbeitung\, Sanitär\, Elektrik)\, Möbel\, An
 tik\, Haushaltswaren\, Büro usw.\nFlohmarkt Termine 2023\nSamstag\, 24. J
 uni 2023 von 10:00 bis 16:00 Uhr\nVeranstalter\nAndre Raichle\nandre_raich
 le@freenet.de
ATTACH;FMTTYPE=image/jpeg:https://www.flohmarkt-termine.org/fotos/Flohmark
 t-0010.jpg
CATEGORIES:Flohmarkt,Privatflohmarkt
LOCATION:Bissingen an der Teck\, Stahlbrunnstraße 20 \, Bissingen an der T
 eck\, Baden-Württemberg\, 73266\, Esslingen\, Deutschland
X-APPLE-STRUCTURED-LOCATION;VALUE=URI;X-ADDRESS=Stahlbrunnstraße 20 \, Bis
 singen an der Teck\, Baden-Württemberg\, 73266\, Esslingen\, Deutschland;
 X-APPLE-RADIUS=100;X-TITLE=Bissingen an der Teck:geo:0,0
END:VEVENT
BEGIN:VTIMEZONE
TZID:Europe/Berlin
X-LIC-LOCATION:Europe/Berlin
BEGIN:DAYLIGHT
DTSTART:20230326T030000
TZOFFSETFROM:+0100
TZOFFSETTO:+0200
TZNAME:CEST
END:DAYLIGHT
END:VTIMEZONE
END:VCALENDAR