BEGIN:VCALENDAR
VERSION:2.0
PRODID:-//wp-events-plugin.com//7.2.3.1//EN
TZID:Europe/Berlin
X-WR-TIMEZONE:Europe/Berlin
BEGIN:VEVENT
UID:5848@flohmarkt-termine.org
DTSTART;TZID=Europe/Berlin:20260714T120000
DTEND;TZID=Europe/Berlin:20260714T170000
DTSTAMP:20210609T133419Z
URL:https://www.flohmarkt-termine.org/events/flohmarkt-zum-suedstadtfest-i
 n-heidelberg-2026-07-14/
SUMMARY:Flohmarkt zum Südstadtfest in Heidelberg
DESCRIPTION:Der Flohmarkt zum Südstadtfest in Heidelberg findet am Sonntag
  von 12:00 bis 17:00 Uhr am Markusplatz in der Rheinstraße in Heidelberg 
 statt.\n\n[caption id="attachment_141696" align="alignnone" width="810"] F
 lohmarkt[/caption]\nWeitere Flohmarkt Termine in Heidelberg und Umgebung\n
 Flohmärkte in Heidelberg\nDer Flohmarkt zum Südstadtfest in Heidelberg f
 indet derzeit leider nicht statt!!! Bitte informieren Sie sich beim Verans
 talter bzw. der Stadt Heidelberg wann der Flohmarkt wieder stattfindet!
ATTACH;FMTTYPE=image/jpeg:https://www.flohmarkt-termine.org/fotos/Flohmark
 t-Heidelberg.jpg
CATEGORIES:Flohmarkt
LOCATION:Markusplatz\, Rheinstraße Heidelberg\, Markusplatz\, Rheinstraße
 \, Heidelberg\, Baden-Württemberg\, Deutschland
GEO:49.3901643;8.68815810000001
X-APPLE-STRUCTURED-LOCATION;VALUE=URI;X-ADDRESS=Markusplatz\, Rheinstraße\
 , Heidelberg\, Baden-Württemberg\, Deutschland;X-APPLE-RADIUS=100;X-TITLE
 =Markusplatz\, Rheinstraße Heidelberg:geo:49.3901643,8.68815810000001
END:VEVENT
BEGIN:VTIMEZONE
TZID:Europe/Berlin
X-LIC-LOCATION:Europe/Berlin
BEGIN:DAYLIGHT
DTSTART:20260329T030000
TZOFFSETFROM:+0100
TZOFFSETTO:+0200
TZNAME:CEST
END:DAYLIGHT
END:VTIMEZONE
END:VCALENDAR