BEGIN:VCALENDAR
VERSION:2.0
PRODID:-//wp-events-plugin.com//7.2.3.1//EN
TZID:Europe/Berlin
X-WR-TIMEZONE:Europe/Berlin
BEGIN:VEVENT
UID:63744@flohmarkt-termine.org
DTSTART;TZID=Europe/Berlin:20230722T100000
DTEND;TZID=Europe/Berlin:20230722T220000
DTSTAMP:20230620T061749Z
URL:https://www.flohmarkt-termine.org/events/flugplatzfest-mit-flohmarkt-u
 nd-oldtimer-ausstellung-in-muencheberg/
SUMMARY:Flugplatzfest mit Flohmarkt und Oldtimer Ausstellung in Müncheberg
DESCRIPTION:Das Flugplatzfest mit Flohmarkt und Oldtimer Ausstellung in Mü
 ncheberg findet am Samstag von 10:00 bis 22:00 Uhr statt.\n\n[caption id="
 attachment_195324" align="alignnone" width="810"] Flugplatzfest mit Flohma
 rkt und Oldtimer Ausstellung in Müncheberg[/caption]\nWeitere Flohmarkt T
 ermine in Müncheberg und der Umgebung\nFlohmärkte in Müncheberg\n\nInfo
 rmationen zu dem Flugplatzfest mit Flohmarkt und Oldtimer Ausstellung in M
 üncheberg\nDas Flugplatzfest mit Flohmarkt und Oldtimer Ausstellung in M
 üncheberg findet am Samstag von 10:00 bis 22:00 Uhr statt.\n\nFlugplatzfe
 st mit Flohmarkt und Oldtimer Ausstellung. Rundflüge\,Live Musik\, Erst A
 nbieter\, keine Standgebühr.\n\nJeder kann Verkaufen. Alle sind gern gese
 hen.\nFlohmarkt Termine 2023\nSamstag\, 22. Juli 2023 von 10:00 bis 22:00 
 Uhr\nFreitag\, 29. September 2023 von 10:00 bis 22:00 Uhr\nVeranstalter\nO
 laf Tonk\nconjoso1@freenet.de
ATTACH;FMTTYPE=image/jpeg:https://www.flohmarkt-termine.org/fotos/Oldtimer
 treffen.png
CATEGORIES:Abendflohmarkt,Flohmarkt
LOCATION:Müncheberg\, Am Flugplatz 4 \, Müncheberg\, Brandenburg\, 15374\
 , Märkisch-Oderland\, Deutschland
X-APPLE-STRUCTURED-LOCATION;VALUE=URI;X-ADDRESS=Am Flugplatz 4 \, Münchebe
 rg\, Brandenburg\, 15374\, Märkisch-Oderland\, Deutschland;X-APPLE-RADIUS
 =100;X-TITLE=Müncheberg:geo:0,0
END:VEVENT
BEGIN:VTIMEZONE
TZID:Europe/Berlin
X-LIC-LOCATION:Europe/Berlin
BEGIN:DAYLIGHT
DTSTART:20230326T030000
TZOFFSETFROM:+0100
TZOFFSETTO:+0200
TZNAME:CEST
END:DAYLIGHT
END:VTIMEZONE
END:VCALENDAR