BEGIN:VCALENDAR
VERSION:2.0
PRODID:-//wp-events-plugin.com//7.2.3.1//EN
TZID:Europe/Berlin
X-WR-TIMEZONE:Europe/Berlin
BEGIN:VEVENT
UID:66821@flohmarkt-termine.org
DTSTART;TZID=Europe/Berlin:20240120T130000
DTEND;TZID=Europe/Berlin:20240121T180000
DTSTAMP:20240122T124605Z
URL:https://www.flohmarkt-termine.org/events/garagenflohmarkt-in-luebeck/
SUMMARY:Garagenflohmarkt in Lübeck
DESCRIPTION:Der Garagenflohmarkt in Lübeck findet am Samstag und Sonntag v
 on 13:00 bis 18:00 Uhr statt.\n\n[caption id="attachment_203008" align="al
 ignnone" width="840"] Garagenflohmarkt in Lübeck[/caption]\nWeitere Flohm
 arkt Termine in Lübeck und der Umgebung\nFlohmärkte in Lübeck\nInformat
 ionen zu dem Garagenflohmarkt in Lübeck\nDer Garagenflohmarkt in Lübeck 
 findet am Samstag und Sonntag von 13:00 bis 18:00 Uhr statt.\n\nGaragen fl
 ohmarkt in Lübeck\nAm schwarzen Berg. 20\nFlohmarkt Termine 2026\nSamstag
 \, 20. Januar 2024 von 13:00 bis 18:00 Uhr\nSonntag\, 21. Januar 2024 von 
 13:00 bis 18:00 Uhr\nVeranstalter\nDennis Rabe\nankeamtsfeld50@gmail.com
ATTACH;FMTTYPE=image/jpeg:https://www.flohmarkt-termine.org/fotos/Flohmark
 t-00678.jpg
CATEGORIES:Flohmarkt,Garagenflohmarkt,Garagentrödel,Trödel,Trödelmarkt
LOCATION:Lübeck\, Am schwarzen Berg 20 \, Lübeck \, Schleswig-Holstein\, 
 23554\, Lübeck \, Deutschland
X-APPLE-STRUCTURED-LOCATION;VALUE=URI;X-ADDRESS=Am schwarzen Berg 20 \, Lü
 beck \, Schleswig-Holstein\, 23554\, Lübeck \, Deutschland;X-APPLE-RADIUS
 =100;X-TITLE=Lübeck:geo:0,0
END:VEVENT
BEGIN:VTIMEZONE
TZID:Europe/Berlin
X-LIC-LOCATION:Europe/Berlin
BEGIN:STANDARD
DTSTART:20231029T020000
TZOFFSETFROM:+0200
TZOFFSETTO:+0100
TZNAME:CET
END:STANDARD
END:VTIMEZONE
END:VCALENDAR