BEGIN:VCALENDAR
VERSION:2.0
PRODID:-//wp-events-plugin.com//7.2.3.1//EN
TZID:Europe/Berlin
X-WR-TIMEZONE:Europe/Berlin
BEGIN:VEVENT
UID:56062@flohmarkt-termine.org
DTSTART;TZID=Europe/Berlin:20230501T060000
DTEND;TZID=Europe/Berlin:20230501T180000
DTSTAMP:20230202T113414Z
URL:https://www.flohmarkt-termine.org/events/grosser-flohmarkt-tsv-cortend
 orf-in-coburg/
SUMMARY:Großer Flohmarkt TSV Cortendorf in Coburg
DESCRIPTION:Der große Flohmarkt TSV Cortendorf in Coburg findet am Montag 
 von 6:00 bis 18:00 Uhr statt.\n\n[caption id="attachment_177019" align="al
 ignnone" width="810"] Großer Flohmarkt TSV Cortendorf in Coburg[/caption]
 \nWeitere Flohmarkt Termine in Coburg und der Umgebung\nFlohmärkte in Cob
 urg\nInformationen zu dem großen Flohmarkt TSV Cortendorf in Coburg\nDer 
 große Flohmarkt TSV Cortendorf in Coburg findet am Montag von 6:00 bis 18
 :00 Uhr statt.\n\nNach unserem letzten erfolgreichen Flohmarkt\, der sich 
 zum schönsten Flohmarkt in Oberfranken entwickelt hat\, ist es wieder sow
 eit.\nAm 01.Mai.2023 veranstaltet der TSV Cortendorf wieder seinen Floh&am
 p\;Trödelmarkt.\nStandgebühr 10\,- Euro.\nKontakt. 0171 482 4887\nFlohma
 rkt Termine 2023\nMontag\, 1. Mai 2023\nVeranstalter\nJörg Krämer\n0171 
 482 4887\njoergkraemer111@gmail.com
ATTACH;FMTTYPE=image/jpeg:https://www.flohmarkt-termine.org/fotos/Flohmark
 t-100.png
CATEGORIES:Flohmarkt,Riesenflohmarkt,Trödel
LOCATION:TSV Cortendorf\, 96450 Coburg Gärtnersleite 14\, 96450 Coburg\, B
 ayern\, 96450\, Franken\, Deutschland
X-APPLE-STRUCTURED-LOCATION;VALUE=URI;X-ADDRESS=96450 Coburg Gärtnersleite
  14\, 96450 Coburg\, Bayern\, 96450\, Franken\, Deutschland;X-APPLE-RADIUS
 =100;X-TITLE=TSV Cortendorf:geo:0,0
END:VEVENT
BEGIN:VTIMEZONE
TZID:Europe/Berlin
X-LIC-LOCATION:Europe/Berlin
BEGIN:DAYLIGHT
DTSTART:20230326T030000
TZOFFSETFROM:+0100
TZOFFSETTO:+0200
TZNAME:CEST
END:DAYLIGHT
END:VTIMEZONE
END:VCALENDAR