BEGIN:VCALENDAR
VERSION:2.0
PRODID:-//wp-events-plugin.com//7.2.3.1//EN
TZID:Europe/Berlin
X-WR-TIMEZONE:Europe/Berlin
BEGIN:VEVENT
UID:69411@flohmarkt-termine.org
DTSTART;TZID=Europe/Berlin:20240309T080000
DTEND;TZID=Europe/Berlin:20240309T150000
DTSTAMP:20240210T102233Z
URL:https://www.flohmarkt-termine.org/events/grosser-hallenflohmarkt-in-we
 ilheim-2024-03-09/
SUMMARY:Großer Hallenflohmarkt in Weilheim
DESCRIPTION:Der große Hallenflohmarkt in Weilheim findet am Samstag von 8
 :00 bis 15:00 Uhr statt.\n\n[caption id="attachment_202425" align="alignno
 ne" width="810"] Grosser Hallenflohmarkt in Weilheim[/caption]\nWeitere Fl
 ohmärkte in Weilheim in Oberbayern und der Umgebung\nFlohmärkte in Weilh
 eim in Oberbayern\nInformationen zu dem großen Hallenflohmarkt in Weilhei
 m\nDer große Hallenflohmarkt in Weilheim findet am Samstag von 8:00 bis 1
 5:00 Uhr statt.\n\nDer Hallentrödel in Weilheim öffnet seine Pforten fü
 r Besucher und Aussteller von 08:00 bis 15:00 Uhr. Ein Paradies für Liebh
 aber von Trödel\, alten Möbeln\, Büchern und vielem mehr. Der Markt lä
 dt zum Stöbern und Entdecken ein. Thomas Bajer steht als Ansprechpartner 
 bereit\, um Fragen zu klären und die Anmeldung der Aussteller zu koordini
 eren. Interessierte können sich Montag bis Freitag zwischen 18:00 und 20:
 00 Uhr telefonisch anmelden. Die Teilnahme ist jedem möglich\, solange es
  sich um private Verkäufe handelt und die Anmeldung vorab erfolgt.\n\nDer
  Flohmarkt in Weilheim bietet eine breite Palette an Waren. Von gebrauchte
 n Spielzeugen über Bekleidung bis hin zu Werkzeugen und Gesellschaftsspie
 len können Besucher eine Vielfalt an Gegenständen entdecken. Dieses Even
 t ist der ideale Ort\, um einzigartige Funde zu machen und in der Vergange
 nheit zu schwelgen. Es ist zu beachten\, dass der Verkauf von lebenden Tie
 ren\, Pornographie und NS-Artikeln strengstens untersagt ist\, um ein fami
 lienfreundliches Umfeld zu gewährleisten.\n\nDer Hallenflohmarkt in Weilh
 eim zieht mehrmals im Jahr am Samstag viele Interessierte an. Er bietet ei
 ne ausgezeichnete Gelegenheit\, sich von nicht mehr benötigten Dingen zu 
 trennen oder Raritäten zu erwerben. Die Atmosphäre ist geprägt von Geme
 inschaft und der Freude am Entdecken. Für alle\, die auf der Suche nach b
 esonderen Schätzen sind oder einfach einen angenehmen Tag unter Gleichges
 innten verbringen möchten\, ist der Besuch ein Muss.\nFlohmarkt Termine 2
 026\nSamstag\, 10. Februar 2024 von 8:00 bis 15:00 Uhr\nSamstag\, 9. März
  2024 von 8:00 bis 15:00 Uhr\nSamstag\, 12. Oktober 2024 von 8:00 bis 15:0
 0 Uhr\nSamstag\, 16. November 2024 von 8:00 bis 15:00 Uhr\nSamstag\, 14. D
 ezember 2024 von 8:00 bis 15:00 Uhr\nVeranstalter\nThomas Bajer\n015254272
 431
ATTACH;FMTTYPE=image/jpeg:https://www.flohmarkt-termine.org/fotos/Flohmark
 t-051.jpg
CATEGORIES:Flohmarkt,Hallenflohmarkt,Hallentrödel
LOCATION:Weilheim in Oberbayern\, Wessobrunner Straße 10 \, Weilheim in Ob
 erbayern\, Bayern\, 82362 \, Weilheim-Schongau\, Deutschland
X-APPLE-STRUCTURED-LOCATION;VALUE=URI;X-ADDRESS=Wessobrunner Straße 10 \, 
 Weilheim in Oberbayern\, Bayern\, 82362 \, Weilheim-Schongau\, Deutschland
 ;X-APPLE-RADIUS=100;X-TITLE=Weilheim in Oberbayern:geo:0,0
END:VEVENT
BEGIN:VTIMEZONE
TZID:Europe/Berlin
X-LIC-LOCATION:Europe/Berlin
BEGIN:STANDARD
DTSTART:20231029T020000
TZOFFSETFROM:+0200
TZOFFSETTO:+0100
TZNAME:CET
END:STANDARD
END:VTIMEZONE
END:VCALENDAR