BEGIN:VCALENDAR
VERSION:2.0
PRODID:-//wp-events-plugin.com//7.2.3.1//EN
TZID:Europe/Berlin
X-WR-TIMEZONE:Europe/Berlin
BEGIN:VEVENT
UID:62697@flohmarkt-termine.org
DTSTART;TZID=Europe/Berlin:20230506T140000
DTEND;TZID=Europe/Berlin:20230506T170000
DTSTAMP:20230309T094048Z
URL:https://www.flohmarkt-termine.org/events/grosser-kindersachenflohmarkt
 -in-der-fritz-boehle-halle-in-emmendingen/
SUMMARY:Großer Kindersachenflohmarkt in der Fritz-Boehle-Halle in Emmendin
 gen
DESCRIPTION:Der große Kindersachenflohmarkt in der Fritz-Boehle-Halle in E
 mmendingen findet am Samstag von 14:00 bis 17:00 Uhr statt.\n\n[caption i
 d="attachment_189375" align="alignnone" width="810"] Großer Kindersachenf
 lohmarkt in der Fritz-Boehle-Halle in Emmendingen[/caption]\nWeitere Flohm
 arkt Termine in Emmendingen und der Umgebung\nFlohmärkte in Emmendingen\n
 Informationen zu dem großen Kindersachenflohmarkt in der Fritz-Boehle-Hal
 le in Emmendingen\nDer große Kindersachenflohmarkt in der Fritz-Boehle-Ha
 lle in Emmendingen findet am Samstag von 14:00 bis 17:00 Uhr statt.\n\nGr
 oßer Kindersachen Flohmarkt am 06.05.2023 in der Fritz-Boehle-Halle in 79
 312 Emmendingen von 14-17 Uhr.\nAnmeldungen an:\nKi-floh@elzbieschder.com\
 nFlohmarkt Termine 2023\nSamstag\, 6. Mai 2023 von 14:00 bis 17:00 Uhr\nVe
 ranstalter\nElzBieschder Emmendingen-Wasser\nKi-floh@elzbieschder.com
ATTACH;FMTTYPE=image/jpeg:https://www.flohmarkt-termine.org/fotos/Kindersa
 chenflohmarkt-63.png
CATEGORIES:Flohmarkt,Kinderbekleidungsbasar,Kindersachenbasar,Kindersachen
 flohmarkt,Kindertrödel
LOCATION:Fritz-Boehle-Halle in Emmendingen\, Rosenweg 3 \, Emmendingen \, B
 aden-Württemberg \, 79312\, Emmendingen \, Deutschland
X-APPLE-STRUCTURED-LOCATION;VALUE=URI;X-ADDRESS=Rosenweg 3 \, Emmendingen \
 , Baden-Württemberg \, 79312\, Emmendingen \, Deutschland;X-APPLE-RADIUS=
 100;X-TITLE=Fritz-Boehle-Halle in Emmendingen:geo:0,0
END:VEVENT
BEGIN:VTIMEZONE
TZID:Europe/Berlin
X-LIC-LOCATION:Europe/Berlin
BEGIN:DAYLIGHT
DTSTART:20230326T030000
TZOFFSETFROM:+0100
TZOFFSETTO:+0200
TZNAME:CEST
END:DAYLIGHT
END:VTIMEZONE
END:VCALENDAR