BEGIN:VCALENDAR
VERSION:2.0
PRODID:-//wp-events-plugin.com//7.2.3.1//EN
TZID:Europe/Berlin
X-WR-TIMEZONE:Europe/Berlin
BEGIN:VEVENT
UID:58416@flohmarkt-termine.org
DTSTART;TZID=Europe/Berlin:20290520T080000
DTEND;TZID=Europe/Berlin:20290520T170000
DTSTAMP:20230111T122205Z
URL:https://www.flohmarkt-termine.org/events/grosser-riedlinger-flohmarkt-
 in-der-altstadt-von-riedlingen-2029-05-20/
SUMMARY:Großer Riedlinger Flohmarkt in der Altstadt von Riedlingen
DESCRIPTION:Der Großer Riedlinger Flohmarkt in der gesamten Altstadt von R
 iedlingen findet jedes Jahr in der Regel am dritten Samstag im Mai von 8:0
 0 bis 17:00 Uhr statt.\n\n[caption id="attachment_161673" align="alignnone
 " width="810"] Großer Riedlinger Flohmarkt in der Innenstadt von Riedling
 en[/caption]\nWeitere Flohmarkt Termine in Riedlingen und der Umgebung\nFl
 ohmärkte in Riedlingen\nInformationen zu dem großen Riedlinger Flohmarkt
  in der Altstadt von Riedlingen\nDer Großer Riedlinger Flohmarkt in der g
 esamten Altstadt von Riedlingen findet jedes Jahr in der Regel am dritten 
 Samstag im Mai von 8:00 bis 17:00 Uhr statt.\n\nDas Marktgelände des Floh
 markt umfasst folgende Gebiete: Marktplatz\, Pfauenstraße\, Schulgasse\, 
 Pfaffengasse\, Fuchsgasse\, Apothekergasse\, Rößlegasse\, Wochenmarkt\, 
 Spitalgasse\, Lange Straße\, Weiber­markt\, Weilerstraße\, llgengasse\,
  Storchengasse\, Donaustraße\, Hindenburgstraße (stadtauswärts bis vor 
 Einmündung Alte Unlinger Str.)\, Festhallenplatz\, Haldenstraße\, Parkan
 lage südlich der Graben- und Kirchstraße\, Parkplatz vor dem Kaplaneihau
 s\, Grabenstraße zwischen Kirchstraße und Kran­kenhausweg\, Tuchplatz b
 eidseitig zwischen Hinden­burgstraße und Tuchplatz 7.\n\n\n\n\nDer groß
 e Riedlinger Flohmarkt in der Altstadt von Riedlingen ist eine beliebte Ve
 ranstaltung für Flohmarktliebhaber und Trödel-Fans. Er findet jedes Jahr
  in der Regel am dritten Samstag im Mai statt und bietet eine große Auswa
 hl an Trödel\, Antiquitäten\, Selbstgemachtem und Vintage-Kleidung.\n\nD
 ie Altstadt von Riedlingen bietet eine besondere Atmosphäre mit ihren eng
 en Gassen und historischen Gebäuden\, die den Flohmarktbesuch zu einem be
 sonderen Erlebnis machen. Hier findet man unter den zahlreichen Ständen u
 nd Buden eine große Auswahl an Raritäten und Unikaten\, die man sonst ni
 rgends bekommen kann. Auch die Möglichkeit direkt mit den Verkäufern in 
 Kontakt zu treten und dadurch mehr über die Geschichte und Herkunft der G
 egenstände zu erfahren\, ist ein besonderer Reiz für die Besucher.\n\nDe
 r große Riedlinger Flohmarkt in der Altstadt ist auch eine willkommene Ge
 legenheit\, um lokale Händler zu unterstützen und ein Stück Riedlingene
 r Geschichte mit nach Hause zu nehmen. Dazu gibt es auch viele Essens- und
  Getränkestände\, so dass man einen angenehmen Tag verbringen kann\, mit
  Freunden und Familie.\n\nWer also nach einer Möglichkeit sucht\, um einz
 igartige Gegenstände zu finden\, lokale Händler zu unterstützen und ein
 en unterhaltsamen Tag in der historischen Altstadt von Riedlingen zu verbr
 ingen\, sollte sich einen Besuch des großen Riedlinger Flohmarkts auf kei
 nen Fall entgehen lassen. Informationen über genaue Daten und Uhrzeiten d
 es Flohmarkts finden Sie auf der Website des Veranstalters.\n\n\n\n\nGebü
 hren\nPrivate Anbieter\n8\,00 € pro laufenden Meter max. 3 Meter Tiefe\n
 10\,00 € pro laufenden Meter über 3 m Tiefe\nGewerbliche Anbieter / Ver
 ein / Gaststätte\n15\,00 € pro laufenden Meter max. 3 m Tiefe\n20\,00 
 € pro laufenden Meter über 3 m Tiefe\n8\,00 € pro Garnitur / Stehtisc
 h\nUnabhängig von der Standgröße fallen 4\,00 € Bearbeitungsgebühr a
 n.\n\nAuf dem Flohmarkt erwünschte Angebote sind Gebrauchtwaren aller Art
 \, handwerksmäßig hergestellte Gegenstände\, kunstgewerbliche Artikel. 
 Nur angemeldete Waren dürfen verkauft oder angeboten werden.\nDie Verabre
 ichung alkoholischer Getränke bedarf einer Gestattung nach Gaststättenge
 setz. Diese ist  spätestens 14 Tage vor der Marktveranstaltung über die
  Internetseite der Stadt Riedlingen www.Riedlingen.de zu beantragen.\nVera
 nstaltungsort\n\n\n\n\nAltstadt von Riedlingen\n\n\n\n\n\nFlohmarkt Termin
 e 2023\nSamstag\, 20. Mai 2023 von 8:00 bis 17:00 Uhr\n\nJedes Jahr in der
  Regel am dritten Samstag im Mai\nVeranstalter\n\n\n\n\n\n\n\n\nRiedlinger
  Handels- und Gewerbeverband e.V.\nHaldenstr.11\n88499 Riedlingen\n\nTelef
 on 07371 7595\nTelefax 07371 2718\nflohmarkt_riedlingen@gmx.de\nwww.flohma
 rkt-riedlingen.de\n\n\n\n\n\n\n\n\n
ATTACH;FMTTYPE=image/jpeg:https://www.flohmarkt-termine.org/fotos/Flohmark
 t-002.png
CATEGORIES:Flohmarkt
LOCATION:Altstadt von Riedlingen\, Lange Str. 20\, Riedlingen\, Baden-Würt
 temberg\, 88499 \, Biberach\, Deutschland
X-APPLE-STRUCTURED-LOCATION;VALUE=URI;X-ADDRESS=Lange Str. 20\, Riedlingen\
 , Baden-Württemberg\, 88499 \, Biberach\, Deutschland;X-APPLE-RADIUS=100;
 X-TITLE=Altstadt von Riedlingen:geo:0,0
END:VEVENT
BEGIN:VTIMEZONE
TZID:Europe/Berlin
X-LIC-LOCATION:Europe/Berlin
BEGIN:DAYLIGHT
DTSTART:20290325T030000
TZOFFSETFROM:+0100
TZOFFSETTO:+0200
TZNAME:CEST
END:DAYLIGHT
END:VTIMEZONE
END:VCALENDAR