BEGIN:VCALENDAR
VERSION:2.0
PRODID:-//wp-events-plugin.com//7.2.3.1//EN
TZID:Europe/Berlin
X-WR-TIMEZONE:Europe/Berlin
BEGIN:VEVENT
UID:62398@flohmarkt-termine.org
DTSTART;TZID=Europe/Berlin:20230903T060000
DTEND;TZID=Europe/Berlin:20230903T160000
DTSTAMP:20230227T091859Z
URL:https://www.flohmarkt-termine.org/events/grossflohmarkt-am-volksfestpl
 atz-in-hildesheim-2023-09-03/
SUMMARY:Großflohmarkt am Volksfestplatz in Hildesheim
DESCRIPTION:Der Großflohmarkt am Volksfestplatz in Hildesheim findet am S
 amstag und Sonntag von 6:00 bis 16:00 Uhr statt.\n\n[caption id="attachmen
 t_161675" align="alignnone" width="810"] Großflohmarkt am Volksfestplatz 
 in Hildesheim[/caption]\nFlohmarkt Termine in Hildesheim und der Umgebung\
 nFlohmärkte in Hildesheim\nInformationen zu dem Großflohmarkt am Volksfe
 stplatz in Hildesheim\nDer Großflohmarkt am Volksfestplatz in Hildesheim
  findet am Samstag und Sonntag von 6:00 bis 16:00 Uhr statt.\n\nDer Flohma
 rkt am Volksfestplatz in Hildesheim ist ein wahres Eldorado für Schnäppc
 henjäger. Regelmäßig im Jahr am Samstag und Sonntag findet hier ein gro
 ßer Flohmarkt statt\, auf dem man so ziemlich alles finden kann.\n\nHier 
 können Sie auf  sehr vielen Ständen nach Kleidung\, Schmuck\, Möbeln\,
  Antiquitäten\, Spielzeug und vielen anderen Raritäten stöbern. Der Flo
 hmarkt in Hildesheim ist einer der größten Flohmärkte der Region. Der M
 arkt ist im Freien und bietet ein besonderes Flair durch die Lage am Volks
 festplatz.\n\nDer Großflohmarkt ist auch ein Ort\, an dem man sich mit Fr
 eunden treffen und das gesellige Ambiente genießen kann. Verkäufer haben
  die Möglichkeit\, ihre Waren auf einem der vielen Stände zu präsentier
 en und zu verkaufen.\n\nDer Flohmarkt am Volksfestplatz in Hildesheim ist 
 ein tolles Erlebnis für Schnäppchenjäger und Flohmarkt-Fans.\nFlohmarkt
  Termine 2023\nSamstag\, 8. April 2023 von 6:00 bis 16:00 Uhr\nSonntag\, 9
 . April 2023 von 6:00 bis 16:00 Uhr\nMontag\, 10. April 2023 von 6:00 bis 
 16:00 Uhr\nSamstag\, 27. Mai 2023 von 6:00 bis 16:00 Uhr\nSonntag\, 28. Ma
 i 2023 von 6:00 bis 16:00 Uhr\nMontag\, 29. Mai 2023 von 6:00 bis 16:00 Uh
 r\nSamstag\, 5. August 2023 von 6:00 bis 16:00 Uhr\nSonntag\, 6. August 20
 23 von 6:00 bis 16:00 Uhr\nSamstag\, 2. September 2023 von 6:00 bis 16:00 
 Uhr\nSonntag\, 3. September 2023 von 6:00 bis 16:00 Uhr\nVeranstalter\nAge
 ntur Siegrid Maué und Marktveranstaltungen Michael Maué\nLüner Weg 47\n
 21337 Lüneburg\n\n04131 53068\n0170 9514777\nmail@agenturmaue.de\nwww.age
 nturmaue.de
ATTACH;FMTTYPE=image/jpeg:https://www.flohmarkt-termine.org/fotos/Flohmark
 t-112.png
CATEGORIES:Flohmarkt
LOCATION:Volksfestplatz in Hildesheim\, Vor der Lademühle 15\, Hildesheim\
 , Niedersachsen\, 31137 \, Hildesheim\, Deutschland
X-APPLE-STRUCTURED-LOCATION;VALUE=URI;X-ADDRESS=Vor der Lademühle 15\, Hil
 desheim\, Niedersachsen\, 31137 \, Hildesheim\, Deutschland;X-APPLE-RADIUS
 =100;X-TITLE=Volksfestplatz in Hildesheim:geo:0,0
END:VEVENT
BEGIN:VTIMEZONE
TZID:Europe/Berlin
X-LIC-LOCATION:Europe/Berlin
BEGIN:DAYLIGHT
DTSTART:20230326T030000
TZOFFSETFROM:+0100
TZOFFSETTO:+0200
TZNAME:CEST
END:DAYLIGHT
END:VTIMEZONE
END:VCALENDAR