BEGIN:VCALENDAR
VERSION:2.0
PRODID:-//wp-events-plugin.com//7.2.3.1//EN
TZID:Europe/Berlin
X-WR-TIMEZONE:Europe/Berlin
BEGIN:VEVENT
UID:57567@flohmarkt-termine.org
DTSTART;TZID=Europe/Berlin:20240302T100000
DTEND;TZID=Europe/Berlin:20240302T160000
DTSTAMP:20240227T072937Z
URL:https://www.flohmarkt-termine.org/events/hallen-und-hoftroedelmarkt-mi
 t-biergarten-im-alten-heizhaus-in-dresden/
SUMMARY:Hallen- und Hoftrödelmarkt mit Bierweingarten im Alten Heizhaus in
  Dresden
DESCRIPTION:Der Hallen- und Hoftrödelmarkt mit Biergarten im Alten Heizhau
 s in Dresden findet am Samstag von 10:00 bis 16:00 Uhr statt.\n\n[caption 
 id="attachment_195324" align="alignnone" width="810"] Hallen- und Hoftröd
 elmarkt mit Biergarten im Alten Heizhaus in Dresden[/caption]\nWeitere Flo
 hmarkt Termine in Dresden und der Umgebung\nFlohmärkte in Dresden\n\nInfo
 rmationen zu dem Öffnungstag der Trödelhallen\, Hoftrödel und Biergarte
 n im Alten Heizhaus in Dresden\nDer Hallen- und Hoftrödelmarkt mit Bierga
 rten im Alten Heizhaus in Dresden findet am Samstag von 10:00 bis 16:00 Uh
 r statt.\n\nHallen- und Hoftrödeltag im Alten Heizhaus Dresden.\nNicht nu
 r die beiden Hallen sind geöffnet\, auch auf dem Hof locken bei gutem Wet
 ter noch viele extra Trödelkisten zum stöbern ein.\nUnser uriger Biergar
 ten bietet Euch Speis &amp\; Trank. Auch an diesem Samstag gibt es für un
 sere Kundschaft wieder kostenlos parken ohne Ticket auf der anliegenden Pr
 ivatstraße.\n\n\n\n\nDer Hallen- und Hoftrödelmarkt im Alten Heizhaus in
  Dresden ist ein beliebtes Ziel für alle\, die auf der Suche nach besonde
 ren Schätzen und einzigartigen Vintage-Stücken sind. Der Markt findet re
 gelmäßig statt und der Eintritt frei. Hier gibt es eine breite Auswahl a
 n Trödel\, darunter Möbel\, Haushaltsgegenstände\, Bücher\, Kleidung u
 nd Schmuck.\n\nBesonders am Flohmarkt ist der Biergarten im Innenhof des A
 lten Heizhauses. Hier können die Besucher nach einer erfolgreichen Schnä
 ppchenjagd gemütlich beisammen sitzen und regionale Biere und Spezialitä
 ten genießen. Die historische Atmosphäre des Gebäudes und die Möglichk
 eit\, in den Pausen zwischen den Ständen einen Blick hinter die Kulissen 
 zu werfen\, tragen zu einem besonderen Erlebnis bei. Der Hallen- und Hoftr
 ödelmarkt im Alten Heizhaus in Dresden ist die perfekte Gelegenheit\, um 
 einzigartige Stücke zu entdecken und dabei auch noch das historische Ambi
 ente der Stadt zu genießen. Kommen Sie vorbei und lassen Sie sich von der
  Vielfalt und dem Charme des Marktes verzaubern. Auch für das leibliche W
 ohl ist gesorgt\, es gibt eine große Auswahl an Essen und Getränken. Ein
  Besuch lohnt sich auf jeden Fall.\n\n\n\n\nFlohmarkt Termine 2026\nSamsta
 g\, 2. März 2024 von 10:00 bis 16:00 Uhr\nVeranstalter\nAltes Heizhaus Dr
 esden\nStage Hand Service\nGeschäftsführer Sven Hellmich\nStetzscherstra
 ße 4\n01097 Dresden\n\ninfo@theresienhof-dresden.de\nwww.theresienhof-dre
 sden.de
ATTACH;FMTTYPE=image/jpeg:https://www.flohmarkt-termine.org/fotos/Flohmark
 t-361.jpg
CATEGORIES:Flohmarkt,Hofflohmarkt,Hoftrödel,Weihnachtsmarkt
LOCATION:Altes Heizhaus Dresden\, Stetzscher Str. 4\, Dresden\, Sachsen\, 0
 1099\, Deutschland
X-APPLE-STRUCTURED-LOCATION;VALUE=URI;X-ADDRESS=Stetzscher Str. 4\, Dresden
 \, Sachsen\, 01099\, Deutschland;X-APPLE-RADIUS=100;X-TITLE=Altes Heizhaus
  Dresden:geo:0,0
END:VEVENT
BEGIN:VTIMEZONE
TZID:Europe/Berlin
X-LIC-LOCATION:Europe/Berlin
BEGIN:STANDARD
DTSTART:20231029T020000
TZOFFSETFROM:+0200
TZOFFSETTO:+0100
TZNAME:CET
END:STANDARD
END:VTIMEZONE
END:VCALENDAR