BEGIN:VCALENDAR
VERSION:2.0
PRODID:-//wp-events-plugin.com//7.2.3.1//EN
TZID:Europe/Berlin
X-WR-TIMEZONE:Europe/Berlin
BEGIN:VEVENT
UID:63220@flohmarkt-termine.org
DTSTART;TZID=Europe/Berlin:20231118T100000
DTEND;TZID=Europe/Berlin:20231118T150000
DTSTAMP:20231110T080100Z
URL:https://www.flohmarkt-termine.org/events/hallenflohmarkt-im-rimsinger-
 weg-in-freiburg/
SUMMARY:Hallenflohmarkt im Rimsinger Weg in Freiburg
DESCRIPTION:Der Hallenflohmarkt im Rimsinger Weg in Freiburg findet am Sam
 stag von 10:00 bis 15:00 Uhr statt.\n\n\n[caption id="attachment_193388" a
 lign="alignnone" width="810"] Hallenflohmarkt im Rimsinger Weg in Freiburg
  im Breisgau[/caption]\nWeitere Flohmarkt Termine in Freiburg im Breisgau 
 und Umgebung\nTrödelmarkte in Freiburg im Breisgau\nInformationen zu dem 
 Hallenflohmarkt im Rimsinger Weg in Freiburg\n\n\n\n\nDer Hallenflohmarkt
  im Rimsinger Weg in Freiburg findet am Samstag von 10:00 bis 15:00 Uhr st
 att.\n\nHallenflohmarkt am 18.11.23. In unserem Lager haben wir neue Vinta
 ge- und Antikmöbel\, Schallplatten\, CDs\, Bücher\, Geschirr\, Elektroge
 räte\, Fahrräder und vieles mehr aus Haushaltsauflösungen anzubieten. A
 ußerdem wird es diesmal alkoholfreien Glühwein und warmes Essen geben.\n
 \nDie Erlöse dienen einem guten Zweck im Bezirksverein für soziale Recht
 spflege.\n\nWann und Wo? Am 18.11.23 von 10.00-15.00 Uhr\nIm Rimsingerweg 
 16\, 79111 Freiburg.\n\nWir freuen uns auf euch!\nDas Arbeitsprojekt Freib
 urg\n\n\n\n\nFlohmarkt Termine 2023\nSamstag\, 18. November 2023 von 10:00
  bis 15:00 Uhr\nVeranstalter\nBezirksverein für soziale Rechtspflege\n- A
 rbeitsprojekt -\n0761701132\nRimsingerweg 16\n79111 Freiburg\n\narbeitspro
 jekt@web.de\nwww.bezirksverein-freiburg.de/arbeitsprojekt
ATTACH;FMTTYPE=image/jpeg:https://www.flohmarkt-termine.org/fotos/Flohmark
 t-8255.jpg
CATEGORIES:Flohmarkt,Hallenflohmarkt,Hallentrödel,Vintagemarkt
LOCATION:Freiburg im Breisgau\, Rimsinger Weg 16 Freiburg\, Freiburg im Bre
 isgau\, Baden-Württemberg\, 79111\, Freiburg im Breisgau\, Deutschland
X-APPLE-STRUCTURED-LOCATION;VALUE=URI;X-ADDRESS=Rimsinger Weg 16 Freiburg\,
  Freiburg im Breisgau\, Baden-Württemberg\, 79111\, Freiburg im Breisgau\
 , Deutschland;X-APPLE-RADIUS=100;X-TITLE=Freiburg im Breisgau:geo:0,0
END:VEVENT
BEGIN:VTIMEZONE
TZID:Europe/Berlin
X-LIC-LOCATION:Europe/Berlin
BEGIN:STANDARD
DTSTART:20231029T020000
TZOFFSETFROM:+0200
TZOFFSETTO:+0100
TZNAME:CET
END:STANDARD
END:VTIMEZONE
END:VCALENDAR