BEGIN:VCALENDAR
VERSION:2.0
PRODID:-//wp-events-plugin.com//7.2.3.1//EN
TZID:Europe/Berlin
X-WR-TIMEZONE:Europe/Berlin
BEGIN:VEVENT
UID:58337@flohmarkt-termine.org
DTSTART;TZID=Europe/Berlin:20261031T110000
DTEND;TZID=Europe/Berlin:20261031T150000
DTSTAMP:20230110T130326Z
URL:https://www.flohmarkt-termine.org/events/hellowinfrid-flohmarkt-im-win
 fridweg-in-lokstedt-im-bezirk-eimsbuettel-in-hamburg-2026-10-31/
SUMMARY:Hellowinfrid-Flohmarkt im Winfridweg in Lokstedt im Bezirk Eimsbüt
 tel in Hamburg
DESCRIPTION:Der Hellowinfrid-Flohmarkt im Winfridweg in Lokstedt im Bezirk
  Eimsbüttel in Hamburg findet immer am 31. Oktober von 11:00 bis 15:00 Uh
 r statt.\n\n[caption id="attachment_186070" align="alignnone" width="810"]
  Hellowinfrid-Flohmarkt im Winfridweg in Lokstedt im Bezirk Eimsbüttel in
  Hamburg[/caption]\nWeitere Flohmarkt Termine in Hamburg und der Umgebung\
 nFlohmärkte in Hamburg\nInformationen zu dem Hellowinfrid-Flohmarkt im Wi
 nfridweg in Lokstedt im Bezirk Eimsbüttel in Hamburg\nDer Hellowinfrid-F
 lohmarkt im Winfridweg in Lokstedt im Bezirk Eimsbüttel in Hamburg findet
  immer am 31. Oktober von 11:00 bis 15:00 Uhr statt.\n\nImmer an Helloween
  / Reformationstag / Feiertag. Dies ist ein gesetzlicher Feiertag und die 
 Kids haben natürlich auch schulfrei.\n\nGroßer Vorgarten und Garagenfloh
 markt der Anwohner des Winfridwegs. Auf den privaten Grundstücken.\n\nbar
 rierefrei\n\nBei Regen fällt der Helloweenfrid-Flohmarkt aus!\n\nKeine St
 andvergabe / Verkauf nur durch die Anwohner\n\nSpielende Kinder - bitte la
 ngsam fahren und nicht auf den Gehwegen parken !\n\n\n\n\nDer Hellowinfrid
  privat Flohmarkt im Winfridweg in Lokstedt in Hamburg ist eine einzigarti
 ge Gelegenheit\, um nach Schnäppchen und Raritäten zu stöbern. Die Vera
 nstaltung findet regelmäßig am 31. Oktober statt und lockt zahlreiche Be
 sucher an.\n\nAuf dem Flohmarkt können Sie eine große Auswahl an gebrauc
 hten und vintage Artikeln entdecken\, von Möbeln und Haushaltsgegenständ
 en bis hin zu Kleidung und Schmuck. Die Verkäufer sind private Anbieter\,
  die ihre ausrangierten Gegenstände auf dem Markt anbieten\, was bedeutet
 \, dass Sie einzigartige und individuelle Stücke finden können\, die Sie
  nicht in Geschäften oder Online-Shops finden werden.\n\nEin weiteres Hig
 hlight des Flohmarkts sind die günstigen Preise. Die Verkäufer sind bere
 it\, ihre Waren zu verkaufen und sind daher häufig bereit\, Preisnachläs
 se zu gewähren. Dies gibt Ihnen die Möglichkeit\, echte Schnäppchen zu 
 machen und tolle Angebote zu entdecken.\n\nDer Hellowinfrid privat Flohmar
 kt im Winfridweg in Lokstedt in Hamburg ist also ein absolutes Muss für a
 lle\, die gerne auf Flohmärkten stöbern\, nach besonderen Gegenständen 
 suchen oder einfach einen schönen Tag in einer entspannten Atmosphäre ve
 rbringen möchten. Also\, markieren Sie sich den Termin im Kalender und be
 suchen Sie den besonderen Flohmarkt im Winfridweg in Lokstedt\, Hamburg f
 ür eine unvergessliche Flohmarkterfahrung.\n\n\n\n\nFlohmarkt Termine 202
 3\nDienstag\, 31. Oktober 2023 von 11:00 bis 15:00 Uhr (findet immer am 31
 . Oktober statt)\nVeranstalter\nPrivatflohmarkt!\nKeine Standvergabe / Ver
 kauf nur durch die Anwohner
ATTACH;FMTTYPE=image/jpeg:https://www.flohmarkt-termine.org/fotos/Hellowee
 n-Flohmarkt.png
CATEGORIES:Flohmarkt,Privatflohmarkt
END:VEVENT
BEGIN:VTIMEZONE
TZID:Europe/Berlin
X-LIC-LOCATION:Europe/Berlin
BEGIN:STANDARD
DTSTART:20261025T020000
TZOFFSETFROM:+0200
TZOFFSETTO:+0100
TZNAME:CET
END:STANDARD
END:VTIMEZONE
END:VCALENDAR