BEGIN:VCALENDAR
VERSION:2.0
PRODID:-//wp-events-plugin.com//7.2.3.1//EN
TZID:Europe/Berlin
X-WR-TIMEZONE:Europe/Berlin
BEGIN:VEVENT
UID:63913@flohmarkt-termine.org
DTSTART;TZID=Europe/Berlin:20230729T100000
DTEND;TZID=Europe/Berlin:20230729T170000
DTSTAMP:20230726T122750Z
URL:https://www.flohmarkt-termine.org/events/hof-und-garagenflohmarkt-in-s
 chwalbach/
SUMMARY:Hof- und Garagenflohmarkt in Schwalbach
DESCRIPTION:Der Hof- und Garagenflohmarkt in Schwalbach findet am Samstag 
 von 10:00 bis 17:00 Uhr statt.\n\n[caption id="attachment_196406" align="a
 lignnone" width="810"] Hof- und Garagenflohmarkt in Schwalbach[/caption]\n
 Weitere Flohmarkt Termine in Schwalbach und der Umgebung\nFlohmärkte in S
 chwalbach\nInformationen zu dem Hof- und Garagenflohmarkt in Schwalbach\nD
 er Hof- und Garagenflohmarkt in Schwalbach findet am Samstag von 10:00 bi
 s 17:00 Uhr statt.\n\nKleiner liebevoll gestalteter Hof-/Garagenflohmarkt 
 am 29.07.23\, in 66773 Schwalbach\, Bachtalstraße 394.\nViele Artikel jeg
 licher Art zu verkaufen\, unter anderem :\n-Kleidung\, Schuhe\n-Schmuck\n-
 Elektrogeräte\n-Kleinmöbel\n-Bücher\, alles rund um Musik\n- Allerlei r
 und um Haus und Garten\nFlohmarkt Termine 2023\nSamstag\, 29. Juli 2023 vo
 n 10:00 bis 17:00 Uhr\nVeranstalter\nLaura Schank\nlauraschank@gmx.de
ATTACH;FMTTYPE=image/jpeg:https://www.flohmarkt-termine.org/fotos/Flohmark
 t-00685.jpg
CATEGORIES:Flohmarkt,Garagenflohmarkt,Garagentrödel,Hofflohmarkt,Hoftröd
 el
LOCATION:Schwalbach-Elm\, Bachtalstraße 394 \, Schwalbach-Elm\, Saarland \
 , 66359\, Saarlouis\, Deutschland
X-APPLE-STRUCTURED-LOCATION;VALUE=URI;X-ADDRESS=Bachtalstraße 394 \, Schwa
 lbach-Elm\, Saarland \, 66359\, Saarlouis\, Deutschland;X-APPLE-RADIUS=100
 ;X-TITLE=Schwalbach-Elm:geo:0,0
END:VEVENT
BEGIN:VTIMEZONE
TZID:Europe/Berlin
X-LIC-LOCATION:Europe/Berlin
BEGIN:DAYLIGHT
DTSTART:20230326T030000
TZOFFSETFROM:+0100
TZOFFSETTO:+0200
TZNAME:CEST
END:DAYLIGHT
END:VTIMEZONE
END:VCALENDAR