BEGIN:VCALENDAR
VERSION:2.0
PRODID:-//wp-events-plugin.com//7.2.3.1//EN
TZID:Europe/Berlin
X-WR-TIMEZONE:Europe/Berlin
BEGIN:VEVENT
UID:70107@flohmarkt-termine.org
DTSTART;TZID=Europe/Berlin:20240622T100000
DTEND;TZID=Europe/Berlin:20240622T160000
DTSTAMP:20240215T081229Z
URL:https://www.flohmarkt-termine.org/events/hofflohmarkt-in-weiden-und-lo
 evenich-in-koeln-lindenthal/
SUMMARY:Hofflohmarkt in Weiden und Lövenich in Köln-Lindenthal
DESCRIPTION:Der Hofflohmarkt in Weiden und Lövenich in Köln-Lindenthal f
 indet am Samstag von 10:00 bis 16:00 Uhr statt.\n\n[caption id="attachment
 _202882" align="alignnone" width="810"] Hofflohmarkt in Weiden und Löveni
 ch in Köln-Lindenthal[/caption]\nWeitere Flohmarkt Termine in Köln und d
 er Umgebung\nFlohmärkte in Köln\nInformationen zu dem Hofflohmarkt in We
 iden und Lövenich in Köln-Lindenthal\nDer Hofflohmarkt in Weiden und L
 övenich in Köln-Lindenthal findet am Samstag von 10:00 bis 16:00 Uhr sta
 tt.\n\nAm Samstag\, den 22. Juni 2024\, findet in Köln-Lindenthal\, genau
 er in den Stadtteilen Weiden und Lövenich\, ein besonderes Ereignis statt
 . Von 10:00 bis 16:00 Uhr öffnen Anwohner ihre Höfe\, Gärten und Garage
 n für den Hofflohmarkt\, ein Markenzeichen für Nachbarschaft\, Nachhalti
 gkeit und Liebe zum Viertel. Dieses einzigartige Event ermöglicht es den 
 Teilnehmern\, ausgediente Schätze und Lieblingsstücke direkt aus dem eig
 enen Besitz zu verkaufen und dabei Teil einer engagierten Gemeinschaft zu 
 sein. Die Anmeldung der Höfe muss bis spätestens drei Wochen vor dem Eve
 nt erfolgen\, um eine reibungslose Organisation und Markierung im Tour-Pla
 n zu gewährleisten.\n\nDer Charme dieser Hofflohmärkte liegt in der Mög
 lichkeit\, in gemütlicher Atmosphäre zu stöbern\, zu entdecken und zu v
 erhandeln. Sie bieten eine perfekte Gelegenheit\, den eigenen Keller oder 
 Speicher zu entrümpeln und dabei vielleicht das ein oder andere neue Lieb
 lingsstück zu finden. Zudem unterstützt dieses Format die lokale Nachbar
 schaft und fördert den nachhaltigen Umgang mit Ressourcen. Alle Verkäufe
  finden ausschließlich auf Privatgrund statt\, was den persönlichen Char
 akter dieser Märkte unterstreicht. Gewerbliche Verkäufer sind nicht zuge
 lassen\, was den Fokus auf private Schätze und handverlesene Fundstücke 
 legt.\n\nDie Organisation der Hofflohmärkte legt Wert darauf\, dass alle 
 Teilnehmer die Regeln beachten. Dazu gehört die Genehmigung durch Hausver
 waltung oder Eigentümer sowie das Verbot des Verkaufs auf Gehwegen und ö
 ffentlichen Flächen. Die Verantwortung für die Veranstaltung trägt jede
  angemeldete Person selbst\, einschließlich der Haftung für eventuelle S
 chäden. Diese Märkte finden bei jedem Wetter statt\, was die Widerstands
 fähigkeit und den Gemeinschaftssinn der Teilnehmer unter Beweis stellt. D
 ie Hofflohmärkte in Köln sind somit nicht nur eine Gelegenheit für Schn
 äppchenjäger\, sondern auch ein Fest der Gemeinschaft und des Austauschs
  unter Nachbarn.\nFlohmarkt Termine 2026\nSamstag\, 22. Juni 2024 von 10:0
 0 bis 16:00 Uhr\nVeranstalter\nHofflohmärkte\nRené Götz\nBerlstraße 3\
 n81375 München\n\n089 62 06 06 06\nrene.goetz@hofflohmaerkte.de\nwww.hoff
 lohmaerkte.de
ATTACH;FMTTYPE=image/jpeg:https://www.flohmarkt-termine.org/fotos/Flohmark
 t-345.jpg
CATEGORIES:Flohmarkt,Hofflohmarkt,Hoftrödel,Stadtflohmarkt,Stadtteilflohm
 arkt,Straßenflohmarkt
LOCATION:Weiden und Lövenich in Köln-Lindenthal\, Weiden und Lövenich in
  Köln-Lindenthal\, Köln\, Nordrhein-Westfalen\, Köln\, Deutschland
X-APPLE-STRUCTURED-LOCATION;VALUE=URI;X-ADDRESS=Weiden und Lövenich in Kö
 ln-Lindenthal\, Köln\, Nordrhein-Westfalen\, Köln\, Deutschland;X-APPLE-
 RADIUS=100;X-TITLE=Weiden und Lövenich in Köln-Lindenthal:geo:0,0
END:VEVENT
BEGIN:VTIMEZONE
TZID:Europe/Berlin
X-LIC-LOCATION:Europe/Berlin
BEGIN:DAYLIGHT
DTSTART:20240331T030000
TZOFFSETFROM:+0100
TZOFFSETTO:+0200
TZNAME:CEST
END:DAYLIGHT
END:VTIMEZONE
END:VCALENDAR