BEGIN:VCALENDAR
VERSION:2.0
PRODID:-//wp-events-plugin.com//7.2.3.1//EN
TZID:Europe/Berlin
X-WR-TIMEZONE:Europe/Berlin
BEGIN:VEVENT
UID:62935@flohmarkt-termine.org
DTSTART;TZID=Europe/Berlin:20230625T110000
DTEND;TZID=Europe/Berlin:20230625T180000
DTSTAMP:20230330T073546Z
URL:https://www.flohmarkt-termine.org/events/internationaler-keramikmarkt-
 am-schlossgarten-in-hanau-2023-06-25/
SUMMARY:Internationaler Keramikmarkt am Schlossgarten in Hanau
DESCRIPTION:Der Internationaler Keramikmarkt am Schlossgarten in Hanau fin
 det am Samstag und Sonntag von 11:00 bis 18:00 Uhr statt.\n\n[caption id="
 attachment_191512" align="alignnone" width="810"] Internationaler Keramikm
 arkt am Schlossgarten in Hanau[/caption]\nWeitere Flohmarkt Termine in Han
 au und der Umgebung\nFlohmärkte in Hanau\nInformationen zu dem Internatio
 naler Keramikmarkt am Schlossgarten in Hanau\nDer Internationaler Keramik
 markt am Schlossgarten in Hanau findet am Samstag und Sonntag von 11:00 bi
 s 18:00 Uhr statt.\n\nDer Internationale Keramikmarkt in Hanau bietet eine
  große künstlerische Vielfalt an dekorativen Keramiken für Haus und Gar
 ten. Es gibt Gebrauchsgeschirr\, Vasen\, Töpfe und Schmuck sowie Gartensk
 ulpturen. Der Keramikmarkt ist nicht nur etwas für Kunstliebhaber sondern
  bietet für jeden etwas. Die Kulisse des Schlossgartens in der Altstadt r
 undet das besondere Ambiente dieses Marktes ab. Das Hanauer Apfelweinfest 
 wird 2020 zeitgleich mit dem Keramikmarkt im Schlossgarten stattfinden. Ei
 n weiterer Grund\, um dieses besondere Event in Hanau zu besuchen und eine
 n perfekten Tag im Freien zu genießen. In diesem Ambiente können Besuche
 r handgefertigte Keramiken und lokales Essen und Trinken genießen.\n\nDer
  Internationale Keramikmarkt in Hanau ist eine wunderbare Möglichkeit um 
 tolle Handwerkskunst zu entdecken. Hier gibt es schöne Dinge für das eig
 ene Zuhause oder als Geschenke für Freunde. Erleben Sie das besondere Amb
 iente des Schlossgartens in Hanau.\nFlohmarkt Termine 2023\nSamstag + Sonn
 tag\, 24. + 25. Juni 2023 von 11:00 bis 18:00 Uhr\nVeranstalter\nHanau Mar
 keting GmbH\nAm Markt 14-18\n63450 Hanau\n\n06181 295 8038\ninfo@hanau-mar
 keting-gmbh.de\nwww.hanau-marketing-gmbh.de
ATTACH;FMTTYPE=image/jpeg:https://www.flohmarkt-termine.org/fotos/Toepferm
 arkt-04.png
CATEGORIES:Kunsthandwerkermarkt
LOCATION:Schlossgarten in Hanau\, Schlossgarten\, Hanau \, Hessen\, 63450 \
 , Hanau \, Deutschland
X-APPLE-STRUCTURED-LOCATION;VALUE=URI;X-ADDRESS=Schlossgarten\, Hanau \, He
 ssen\, 63450 \, Hanau \, Deutschland;X-APPLE-RADIUS=100;X-TITLE=Schlossgar
 ten in Hanau:geo:0,0
END:VEVENT
BEGIN:VTIMEZONE
TZID:Europe/Berlin
X-LIC-LOCATION:Europe/Berlin
BEGIN:DAYLIGHT
DTSTART:20230326T030000
TZOFFSETFROM:+0100
TZOFFSETTO:+0200
TZNAME:CEST
END:DAYLIGHT
END:VTIMEZONE
END:VCALENDAR