BEGIN:VCALENDAR
VERSION:2.0
PRODID:-//wp-events-plugin.com//7.2.3.1//EN
TZID:Europe/Berlin
X-WR-TIMEZONE:Europe/Berlin
BEGIN:VEVENT
UID:66306@flohmarkt-termine.org
DTSTART;TZID=Europe/Berlin:20240316T100000
DTEND;TZID=Europe/Berlin:20240316T150000
DTSTAMP:20240119T084615Z
URL:https://www.flohmarkt-termine.org/events/kinderflohmarkt-im-kindergart
 en-am-waldpark-hohenbrunn-riemerling/
SUMMARY:Kinderflohmarkt im Kindergarten am Waldpark Hohenbrunn Riemerling
DESCRIPTION:Der Kinderflohmarkt im Kindergarten am Waldpark Hohenbrunn Rie
 merling findet am Samstag von 10:00 bis 14:00 Uhr statt.\n\n[caption id="a
 ttachment_202387" align="alignnone" width="810"] Kinderflohmarkt im Kinder
 garten am Waldpark Hohenbrunn Riemerling[/caption]\nWeitere Flohmarkt Term
 ine in Hohenbrunn und der Umgebung\nFlohmärkte in Hohenbrunn \nInformatio
 nen zu dem Kinderflohmarkt im Kindergarten am Waldpark Hohenbrunn Riemerl
 ing\nDer Kinderflohmarkt im Kindergarten am Waldpark Hohenbrunn Riemerlin
 g findet am Samstag von 10:00 bis 14:00 Uhr statt.\n\nDer Kindergarten am 
 Waldpark veranstaltet am 16.03.2024 ein Kinderflohmarkt.\nVerkauft werden 
 Baby- sowie Kinderkleidung\, Spielsachen\, Bücher und vieles mehr.\nDie T
 ischgebühr beträgt 10€\, sowie 2€ pro mitgebrachter Kleiderstange.\n
 Die Tische werden gestellt. Die Anmeldung erfolgt über die Emailadresse u
 nten.\nDer Elternbeirat versorgt die Besucher mit Kaffee und Kuchen u.v.m.
 \nDie Einnahmen kommen den KiGa-Kindern zu Gute!\nWir freuen uns auf jeden
  Besucher!\nDer Elternbeirat am Waldpark\nFlohmarkt Termine 2026\nSamstag\
 , 16. März 2024 von 10:00 bis 14:00 Uhr\nVeranstalter\nElternbeirat KiGa 
 am Waldpark\nebr.kaw@googlemail.com
ATTACH;FMTTYPE=image/jpeg:https://www.flohmarkt-termine.org/fotos/Flohmark
 t-356.jpg
CATEGORIES:Flohmarkt,Kinderflohmarkt,Kindersachenflohmarkt
LOCATION:Waldpark Hohenbrunn Riemerling\, Sommerstraße 3a\, Hohenbrunn Rie
 merling\, Bayern\, 85521\, München \, Deutschland
X-APPLE-STRUCTURED-LOCATION;VALUE=URI;X-ADDRESS=Sommerstraße 3a\, Hohenbru
 nn Riemerling\, Bayern\, 85521\, München \, Deutschland;X-APPLE-RADIUS=10
 0;X-TITLE=Waldpark Hohenbrunn Riemerling:geo:0,0
END:VEVENT
BEGIN:VTIMEZONE
TZID:Europe/Berlin
X-LIC-LOCATION:Europe/Berlin
BEGIN:STANDARD
DTSTART:20231029T020000
TZOFFSETFROM:+0200
TZOFFSETTO:+0100
TZNAME:CET
END:STANDARD
END:VTIMEZONE
END:VCALENDAR