BEGIN:VCALENDAR
VERSION:2.0
PRODID:-//wp-events-plugin.com//7.2.3.1//EN
TZID:Europe/Berlin
X-WR-TIMEZONE:Europe/Berlin
BEGIN:VEVENT
UID:70771@flohmarkt-termine.org
DTSTART;TZID=Europe/Berlin:20240302T123000
DTEND;TZID=Europe/Berlin:20240302T150000
DTSTAMP:20240226T091748Z
URL:https://www.flohmarkt-termine.org/events/kinderkleiderboerse-in-der-ge
 meindehalle-in-ellhofen/
SUMMARY:Kinderkleiderbörse in der Gemeindehalle in Ellhofen
DESCRIPTION:Der Kinderkleiderbörse in der Gemeindehalle in Ellhofen finde
 t am Samstag von 12:30 bis 15:00 Uhr statt.\n\n[caption id="attachment_209
 995" align="alignnone" width="840"] Kinderkleiderbörse in der Gemeindehal
 le in Ellhofen[/caption]\nWeitere Flohmarkt Termine in Ellhofen und Umgeb
 ung\nFlohmarkt in Ellhofen\n\nInformationen zu dem Kinderkleiderbörse in 
 der Gemeindehalle in Ellhofen\nDer Kinderkleiderbörse in der Gemeindehal
 le in Ellhofen findet am Samstag von 12:30 bis 15:00 Uhr statt.\n\nAm Sams
 tag\, dem 2. März 2024\, findet in der Gemeindehalle Ellhofen eine besond
 ere Veranstaltung statt. Die Kindertagesstätten in Ellhofen organisieren 
 eine Kinderkleiderbörse mit Kinderflohmarkt. Zwischen 12:30 und 15:00 Uhr
  können Besucher in der Gemeindehalle Ellhofen eine Vielfalt an gut erhal
 tenen Kinderkleidungen\, Spielzeugen\, Kinderwagen und Kinderfahrzeugen en
 tdecken. Diese Veranstaltung bietet eine ausgezeichnete Gelegenheit\, qual
 itativ hochwertige Artikel für Kinder zu erschwinglichen Preisen zu finde
 n.\n\nNeben der Möglichkeit\, gebrauchte Kinderartikel zu kaufen oder zu 
 verkaufen\, wird für das leibliche Wohl der Besucher gesorgt. Es stehen K
 affee\, Kuchen\, Brezeln und Saitenwürstle zur Verfügung\, die sowohl vo
 r Ort genossen als auch mitgenommen werden können. Die Veranstaltung vers
 pricht nicht nur ein reichhaltiges Angebot an Kinderartikeln\, sondern auc
 h eine angenehme Atmosphäre für einen Familienausflug.\n\nInteressierte\
 , die einen Verkaufsplatz oder Tisch für den Flohmarkt reservieren möcht
 en\, können dies ab Sonntag\, dem 25. Februar\, tun. Anmeldungen werden p
 er E-Mail unter kinderkleiderboerse-ellhofen@web.de entgegengenommen. Das 
 Organisatorenteam der Kinderkleiderbörse in Ellhofen engagiert sich für 
 eine erfolgreiche und freudvolle Veranstaltung\, die das Zusammenkommen de
 r Gemeinschaft fördert und gleichzeitig eine Plattform für den Austausch
  und Kauf von Kinderartikeln bietet.\nFlohmarkt Termine 2026\nSamstag\, 2.
  März 2024 von 12:30 bis 15:00 Uhr\nVeranstalter\nKinderkleiderbörseteam
  Ellhofen\nGemeindehalle Ellhofen\nBinweg 9\n74248 Ellhofen\n\nkinderkleid
 erboerse-ellhofen@web.de
ATTACH;FMTTYPE=image/jpeg:https://www.flohmarkt-termine.org/fotos/Kindersa
 chenbasar.jpg
CATEGORIES:Babybasar,Babyflohmarkt,Basar,Flohmarkt,Kinderbasar ,Kinderbek
 leidungsbasar,Kinderflohmarkt,Kinderkleidermarkt,Kindersachenbasar,Kinders
 achenflohmarkt,Kindertrödel,Second Hand
 Flohmarkt,Spielwarenflohmarkt,Spielzeugbasar
LOCATION:Gemeindehalle in Ellhofen\, Binweg 9 \, Ellhofen\, Baden-Württemb
 erg\, 74248 \, Heilbronn\, Deutschland
X-APPLE-STRUCTURED-LOCATION;VALUE=URI;X-ADDRESS=Binweg 9 \, Ellhofen\, Bade
 n-Württemberg\, 74248 \, Heilbronn\, Deutschland;X-APPLE-RADIUS=100;X-TIT
 LE=Gemeindehalle in Ellhofen:geo:0,0
END:VEVENT
BEGIN:VTIMEZONE
TZID:Europe/Berlin
X-LIC-LOCATION:Europe/Berlin
BEGIN:STANDARD
DTSTART:20231029T020000
TZOFFSETFROM:+0200
TZOFFSETTO:+0100
TZNAME:CET
END:STANDARD
END:VTIMEZONE
END:VCALENDAR