BEGIN:VCALENDAR
VERSION:2.0
PRODID:-//wp-events-plugin.com//7.2.3.1//EN
TZID:Europe/Berlin
X-WR-TIMEZONE:Europe/Berlin
BEGIN:VEVENT
UID:72331@flohmarkt-termine.org
DTSTART;TZID=Europe/Berlin:20240309T100000
DTEND;TZID=Europe/Berlin:20240309T120000
DTSTAMP:20240307T081845Z
URL:https://www.flohmarkt-termine.org/events/kinderkleiderflohmarkt-in-der
 -turn-und-festhallein-eutingen-im-gaeu/
SUMMARY:Kinderkleiderflohmarkt in der Turn- und Festhallein Eutingen im Gä
 u
DESCRIPTION:Der Kinderkleiderflohmarkt in der Turn- und Festhallein Euting
 en im Gäu findet am Samstag von 10:00 bis 12:00 Uhr statt.\n\n[caption id
 ="attachment_209995" align="alignnone" width="840"] Kinderkleiderflohmarkt
  in der Turn- und Festhallein Eutingen im Gäu[/caption]\nWeitere Flohmark
 t Termine in Eutingen im Gäu und Umgebung\nFlohmärkte in Eutingen im Gä
 u\nInformationen zu dem Kinderkleiderflohmarkt in der Turn- und Festhallei
 n Eutingen im Gäu\nDer Kinderkleiderflohmarkt in der Turn- und Festhalle
 in Eutingen im Gäu findet am Samstag von 10:00 bis 12:00 Uhr statt.\n\nAm
  Samstag\, den 9. März 2024\, findet in der Turn- und Festhalle Eutingen 
 im Gäu ein Kinderkleiderflohmarkt statt. Von 10:00 bis 12:00 Uhr haben Be
 sucher die Möglichkeit\, bei einem Tischverkauf Frühjahrs- und Sommerbek
 leidung\, Spielsachen\, Fahrzeuge sowie Kinderwagen und Autositze zu erwer
 ben. Diese Veranstaltung bietet eine ausgezeichnete Gelegenheit\, qualitat
 iv hochwertige und gut erhaltene Artikel für Kinder zu finden. Darüber h
 inaus unterstützt der Einkauf auf dem Flohmarkt den nachhaltigen Umgang m
 it Ressourcen und fördert das lokale Wirtschaften.\n\nEin besonderes Ange
 bot gilt für Schwangere\, die bereits ab 9:30 Uhr Einlass erhalten und so
 mit die Möglichkeit haben\, in aller Ruhe und vor dem allgemeinen Ansturm
  die Angebote zu erkunden. Dies gewährleistet einen entspannten Einkauf u
 nd die Chance\, die besten Stücke zu ergattern.\n\nDer Flohmarkt wird vom
  Kinderhaus Fantadu organisiert\, einer Einrichtung\, die sich dem Wohl un
 d der Förderung von Kindern widmet. Die Veranstaltung trägt nicht nur zu
 r Finanzierung verschiedener Projekte und Aktivitäten bei\, sondern stär
 kt auch das Bewusstsein für den Wert von Wiederverwendung und Nachhaltigk
 eit. Besucher des Flohmarkts können somit nicht nur attraktive und nützl
 iche Artikel für ihre Kinder erwerben\, sondern unterstützen auch einen 
 guten Zweck.\nFlohmarkt Termine 2026\nSamstag\, 9. März 2024 von 10:00 bi
 s 12:00 Uhr\nVeranstalter\nKinderhaus Fantadu\nEutingen im Gäu Turn-und F
 esthalle\nSchulstraße\n72184 Eutingen im Gäu
ATTACH;FMTTYPE=image/jpeg:https://www.flohmarkt-termine.org/fotos/Kindersa
 chenflohmarkt-1.jpg
CATEGORIES:Babybasar,Babyflohmarkt,Basar,Fahrradflohmarkt,Flohmarkt,Kinder
 basar ,Kinderbekleidungsbasar,Kinderflohmarkt,Kinderkleidermarkt,Kindersa
 chenbasar,Kindersachenflohmarkt,Kindertrödel,Spielwarenflohmarkt,Spielzeu
 gbasar
LOCATION:Turn- und Festhallein Eutingen im Gäu\, Schulstraße \, Eutingen 
 im Gäu \, Baden-Württemberg\, 72184 \, Freudenstadt\, Deutschland
X-APPLE-STRUCTURED-LOCATION;VALUE=URI;X-ADDRESS=Schulstraße \, Eutingen im
  Gäu \, Baden-Württemberg\, 72184 \, Freudenstadt\, Deutschland;X-APPLE-
 RADIUS=100;X-TITLE=Turn- und Festhallein Eutingen im Gäu:geo:0,0
END:VEVENT
BEGIN:VTIMEZONE
TZID:Europe/Berlin
X-LIC-LOCATION:Europe/Berlin
BEGIN:STANDARD
DTSTART:20231029T020000
TZOFFSETFROM:+0200
TZOFFSETTO:+0100
TZNAME:CET
END:STANDARD
END:VTIMEZONE
END:VCALENDAR