BEGIN:VCALENDAR
VERSION:2.0
PRODID:-//wp-events-plugin.com//7.2.3.1//EN
TZID:Europe/Berlin
X-WR-TIMEZONE:Europe/Berlin
BEGIN:VEVENT
UID:59110@flohmarkt-termine.org
DTSTART;TZID=Europe/Berlin:20240309T100000
DTEND;TZID=Europe/Berlin:20240309T123000
DTSTAMP:20240229T151056Z
URL:https://www.flohmarkt-termine.org/events/kindermode-event-handmade-sec
 ondhand-zwergenkram-markt-im-schuppen-6-in-luebeck/
SUMMARY:Kindermode Event Handmade und Secondhand Zwergenkram Markt im Schup
 pen 6 in Lübeck
DESCRIPTION:Der Kindermode Event Handmade und Secondhand Zwergenkram Markt 
 im Schuppen 6 in Lübeck findet am Samstag von 10:00 bis 12:30 Uhr statt.\
 n\n[caption id="attachment_202381" align="alignnone" width="810"] Kindermo
 de Event Handmade und Secondhand Zwergenkram Markt im Schuppen 6 in Lübec
 k[/caption]\nWeitere Flohmarkt Termine in Lübeck und der Umgebung\nFlohm
 ärkte in Lübeck\nInformationen zu dem Kindermode Event Handmade &amp\; S
 econdhand Zwergenkram Markt im Schuppen 6 in Lübeck\nDer Kindermode Event
  Handmade und Secondhand Zwergenkram Markt im Schuppen 6 in Lübeck findet
  am Samstag von 10:00 bis 12:30 Uhr statt.\n\nDie Lübecker Veranstaltungs
 szene Szene hat einen glitzernden Stern am Himmel! Als einer der wenigen S
 tandorte nördlich der Elbe können wir Euch im Schuppen 6 ein wetterunabh
 ängiges Kindermode Event (Handmade &amp\; Secondhand) bieten. Mit viel Ch
 arme und moderner Infrastruktur könnte es keine schönere Location hierf
 ür geben.\nAm 09.03.2024 findet Ihr am Vormittag ( 10-12.30Uhr) all das\,
  was Kinder - und Elternherzen höher schlagen lässt! ZWERGENKRAM!\nDie L
 ütten wachsen so schnell und ständig braucht man etwas Neues\, Schönes 
 und/oder Gebrauchtes. In den Größen 50 - 164 werdet Ihr fündig\, Jungs 
 &amp\; Mädels sind gleichermaßen vertreten. Babybedarf gibt es ebenfalls
  vor Ort\, schaut einfach mal vorbei.\nAlle Schnäppchenjäger/innen sowie
  Handmadefans die auf der Suche nach etwas Schönem sind\, werden bei Zwer
 genkram glücklich!\nSchwangere sowie Mamas mit Tragen &amp\; TT\, inkl. B
 egleitperson können bereits ab 9Uhr stöbern...\nBitte respektiert diese 
 Regel und kommt mit Euren Kinderwagen erst um 10Uhr.\nFür nur 2\,50€ Ei
 ntritt habt ihr Zugang mit über 50 Ständen aus ganz Schleswig Holstein u
 nd könnt gemütlich durch den Schuppen schlendern.\nEinzelne Highlights r
 und ums Thema Kind dürft Ihr ebenfalls erwarten. Wir freuen uns auf eine 
 erfolgreiche Veranstaltung und auf weitere schöne Zwergenkram Events in L
 übeck!\nEltern\, die noch teilnehmen möchten können dieses über unsere
  Homepage http://www.zwergenkram.com buchen.\n\n&nbsp\;\n\nDer Zwergenkram
  Markt kommt auch in andere Städte\, sodass noch mehr Familien die Mögli
 chkeit haben\, an diesem besonderen Ereignis teilzunehmen. Die Anmeldung i
 st einfach und kann direkt über die Website erfolgen. Für Privatausstell
 er in Städten wie Hamburg\, Lübeck und Flensburg gibt es attraktive Stan
 dpreise und die Möglichkeit\, eigene Tische und Kleiderstangen mitzubring
 en oder zu mieten. Die Termine für das Jahr 2024\, darunter der 09.03. in
  Lübeck und der 10.03. in Kiel\, sind bereits buchbar. Der Zwergenkram Ma
 rkt ist also ein Muss für alle\, die auf der Suche nach besonderen Kinder
 sachen sind\, seien es Secondhand-Schätze oder handgemachte Einzelstücke
 .\nFlohmarkt Termine 2026\nSamstag\, 9. März 2024 von 10:00 bis 12:30 Uhr
 \nVeranstalter\nVera Stolzenberg &amp\; Lisa StellyGbR\nGlockengießerstr.
  59\n23552 Lübeck\n\ninfo@zwergenkram.com\nwww.zwergenkram.com
ATTACH;FMTTYPE=image/jpeg:https://www.flohmarkt-termine.org/fotos/Kindersa
 chenflohmarkt.jpg
CATEGORIES:Flohmarkt
LOCATION:Schuppen 6 in Lübeck\, An der Untertrave 46 a \, Lübeck\, Schles
 wig-Holstein \, 23552\, Lübeck\, Deutschland
X-APPLE-STRUCTURED-LOCATION;VALUE=URI;X-ADDRESS=An der Untertrave 46 a \, L
 übeck\, Schleswig-Holstein \, 23552\, Lübeck\, Deutschland;X-APPLE-RADIU
 S=100;X-TITLE=Schuppen 6 in Lübeck:geo:0,0
END:VEVENT
BEGIN:VTIMEZONE
TZID:Europe/Berlin
X-LIC-LOCATION:Europe/Berlin
BEGIN:STANDARD
DTSTART:20231029T020000
TZOFFSETFROM:+0200
TZOFFSETTO:+0100
TZNAME:CET
END:STANDARD
END:VTIMEZONE
END:VCALENDAR